Workbook

Sheet СВОД (защита)
A1: Сводные данные по административно-управленческому и педагогическому персоналу
A2: =Список!$H$2 -> МАОУ Луговская СОШ
A4: Общие данные
A6: Всего работников | B6: =COUNTIF(Список!C:C,"Работает")+COUNTIF(Список!C:C,"Внеш. совмест.")+COUNTIF(Список!C:C,"Декр. отп.")+COUNTIF(Список!C:C,"Длит. отп. (до 1 г.)") -> 28
A7: из них:
A8: АУП | B8: =COUNTIF(Список!B:B,"АУП") -> 1 | G8: Работает (по осн. месту работы) | H8: =COUNTIF(Список!C:C,"Работает") -> 27 | M8: По совмещению (внутри ОО) | N8: =COUNTIF(Список!D:D,"совмещение") -> 3
A9: Педагогических работников | B9: =COUNTIF(Список!B:B,"Учитель")+COUNTIF(Список!B:B,"Иные ПР")+COUNTIF(Список!B:B,"ЦО ТР") -> 27 | G9: Внешних совместителей | H9: =COUNTIF(Список!C:C,"Внеш. совмест.") -> 0
A10: из педработников - учителей | B10: =COUNTIF(Список!B:B,"Учитель") -> 27 | G10: В декретном отпуске | H10: =COUNTIF(Список!C:C,"Декр. отп.") -> 1 | M10: По совместительству (внутри ОО) | N10: =COUNTIF(Список!D:D,"совместительство") -> 5
A11: из педработников - ЦО "ТР" | B11: =COUNTIF(Список!B:B,"ЦО ТР") -> 0 | G11: В длительном отпуске до 1 года | H11: =COUNTIF(Список!C:C,"Длит. отп. (до 1 г.)") -> 0
A13: Данные по возрасту
A15: Всего работников (проверка) | B15: =B24+D24+F24+H24+J24+L24+N24+P24+R24+T24+T25 -> #REF! | D15: Сред. возр. | E15: =AVERAGE(Список!#REF!) -> #REF!
A17: 18 | B17: =COUNTIF(Список!#REF!,A17) -> #REF!
A18: 19 | B18: =COUNTIF(Список!#REF!,A18) -> #REF!
A19: 20 | B19: =COUNTIF(Список!#REF!,A19) -> #REF! | C19: 25 | D19: =COUNTIF(Список!#REF!,C19) -> #REF! | E19: 30 | F19: =COUNTIF(Список!#REF!,E19) -> #REF! | G19: 35 | H19: =COUNTIF(Список!#REF!,G19) -> #REF! | I19: 40 | J19: =COUNTIF(Список!#REF!,I19) -> #REF! | K19: 45 | L19: =COUNTIF(Список!#REF!,K19) -> #REF! | M19: 50 | N19: =COUNTIF(Список!#REF!,M19) -> #REF! | O19: 55 | P19: =COUNTIF(Список!#REF!,O19) -> #REF! | Q19: 60 | R19: =COUNTIF(Список!#REF!,Q19) -> #REF! | S19: 65 | T19: =COUNTIF(Список!#REF!,S19) -> #REF!
A20: 21 | B20: =COUNTIF(Список!#REF!,A20) -> #REF! | C20: 26 | D20: =COUNTIF(Список!#REF!,C20) -> #REF! | E20: 31 | F20: =COUNTIF(Список!#REF!,E20) -> #REF! | G20: 36 | H20: =COUNTIF(Список!#REF!,G20) -> #REF! | I20: 41 | J20: =COUNTIF(Список!#REF!,I20) -> #REF! | K20: 46 | L20: =COUNTIF(Список!#REF!,K20) -> #REF! | M20: 51 | N20: =COUNTIF(Список!#REF!,M20) -> #REF! | O20: 56 | P20: =COUNTIF(Список!#REF!,O20) -> #REF! | Q20: 61 | R20: =COUNTIF(Список!#REF!,Q20) -> #REF! | S20: 66 | T20: =COUNTIF(Список!#REF!,S20) -> #REF!
A21: 22 | B21: =COUNTIF(Список!#REF!,A21) -> #REF! | C21: 27 | D21: =COUNTIF(Список!#REF!,C21) -> #REF! | E21: 32 | F21: =COUNTIF(Список!#REF!,E21) -> #REF! | G21: 37 | H21: =COUNTIF(Список!#REF!,G21) -> #REF! | I21: 42 | J21: =COUNTIF(Список!#REF!,I21) -> #REF! | K21: 47 | L21: =COUNTIF(Список!#REF!,K21) -> #REF! | M21: 52 | N21: =COUNTIF(Список!#REF!,M21) -> #REF! | O21: 57 | P21: =COUNTIF(Список!#REF!,O21) -> #REF! | Q21: 62 | R21: =COUNTIF(Список!#REF!,Q21) -> #REF! | S21: 67 | T21: =COUNTIF(Список!#REF!,S21) -> #REF!
A22: 23 | B22: =COUNTIF(Список!#REF!,A22) -> #REF! | C22: 28 | D22: =COUNTIF(Список!#REF!,C22) -> #REF! | E22: 33 | F22: =COUNTIF(Список!#REF!,E22) -> #REF! | G22: 38 | H22: =COUNTIF(Список!#REF!,G22) -> #REF! | I22: 43 | J22: =COUNTIF(Список!#REF!,I22) -> #REF! | K22: 48 | L22: =COUNTIF(Список!#REF!,K22) -> #REF! | M22: 53 | N22: =COUNTIF(Список!#REF!,M22) -> #REF! | O22: 58 | P22: =COUNTIF(Список!#REF!,O22) -> #REF! | Q22: 63 | R22: =COUNTIF(Список!#REF!,Q22) -> #REF! | S22: 68 | T22: =COUNTIF(Список!#REF!,S22) -> #REF!
A23: 24 | B23: =COUNTIF(Список!#REF!,A23) -> #REF! | C23: 29 | D23: =COUNTIF(Список!#REF!,C23) -> #REF! | E23: 34 | F23: =COUNTIF(Список!#REF!,E23) -> #REF! | G23: 39 | H23: =COUNTIF(Список!#REF!,G23) -> #REF! | I23: 44 | J23: =COUNTIF(Список!#REF!,I23) -> #REF! | K23: 49 | L23: =COUNTIF(Список!#REF!,K23) -> #REF! | M23: 54 | N23: =COUNTIF(Список!#REF!,M23) -> #REF! | O23: 59 | P23: =COUNTIF(Список!#REF!,O23) -> #REF! | Q23: 64 | R23: =COUNTIF(Список!#REF!,Q23) -> #REF! | S23: 69 | T23: =COUNTIF(Список!#REF!,S23) -> #REF!
A24: моложе 25 лет | B24: =SUM(B17:B23) -> #REF! | C24: 25-29 | D24: =SUM(D19:D23) -> #REF! | E24: 30-34 | F24: =SUM(F19:F23) -> #REF! | G24: 35-39 | H24: =SUM(H19:H23) -> #REF! | I24: 40-44 | J24: =SUM(J19:J23) -> #REF! | K24: 45-49 | L24: =SUM(L19:L23) -> #REF! | M24: 50-54 | N24: =SUM(N19:N23) -> #REF! | O24: 55-59 | P24: =SUM(P19:P23) -> #REF! | Q24: 60-64 | R24: =SUM(R19:R23) -> #REF! | S24: 65-69 | T24: =SUM(T19:T23) -> #REF!
S25: 70 и более | T25: =COUNTIF(Список!#REF!,70)+COUNTIF(Список!#REF!,71)+COUNTIF(Список!#REF!,72)+COUNTIF(Список!#REF!,73)+COUNTIF(Список!#REF!,74)+COUNTIF(Список!#REF!,75)+COUNTIF(Список!#REF!,76)+COUNTIF(Список!#REF!,77)+COUNTIF(Список!#REF!,78)+COUNTIF(Список!#REF!,79)+COUNTIF(Список!#REF!,80)+COUNTIF(Список!#REF!,81)+COUNTIF(Список!#REF!,82)+COUNTIF(Список!#REF!,83)+COUNTIF(Список!#REF!,84)+COUNTIF(Список!#REF!,85)+COUNTIF(Список!#REF!,86)+COUNTIF(Список!#REF!,87)+COUNTIF(Список!#REF!,88)+COUNTIF(Список!#REF!,89)+COUNTIF(Список!#REF!,90) -> #REF!
A26: Сред. возр. (при использовании фильтра на листе "Список") | B26: =SUBTOTAL(101,Список!#REF!) -> #REF! | G26: Справочно: Отобрано значений | H26: =SUBTOTAL(103,Список!#REF!) -> #REF!
A28: Данные по образованию
A30: Имеющих ВО | B30: =COUNTIF('Технический лист'!A:A,"ВО") -> 23 | E30: Имеющих СПО | F30: =COUNTIF('Технический лист'!A:A,"СПО") -> 5 | J30: Студентов по программам ВО | K30: =COUNTIF('Технический лист'!A:A,"ВО (с)") -> 0 | O30: Студентов по программам СПО | P30: =COUNTIF('Технический лист'!A:A,"СПО (с)") -> 0 | S30: Ученая степень | T30: =SUM(Список!S8:S3923) -> 2
A32: Данные по КПК
A34: Указать нужный год | B34: =COUNTIF(Список!F:F,'СВОД (защита)'!A34) -> 0 | E34: Указать нужный год | F34: =COUNTIF(Список!F:F,'СВОД (защита)'!E34) -> 0 | J34: Указать нужный год | K34: =COUNTIF(Список!F:F,'СВОД (защита)'!J34) -> 0 | O34: Указать нужный год | P34: =COUNTIF(Список!F:F,'СВОД (защита)'!O34) -> 0 | S34: Указать нужный год | T34: =COUNTIF(Список!F:F,'СВОД (защита)'!S34) -> 0
A36: Данные по нагрузке
A38: Ср. кол-во занятых ставок | B38: =AVERAGEIF('Технический лист'!B:B,">0") -> 1.5619658 | F38: Ср. учебная нагрузка (в часах) | G38: =AVERAGEIF('Технический лист'!C:C,">0") -> 25.130435
A40: Данные по категории (по основной должности)
A42: нет | B42: =COUNTIF('Технический лист'!D:D,"нет") -> 0 | D42: соответствие | E42: =COUNTIF('Технический лист'!D:D,"соответствие") -> 0 | G42: первая | H42: =COUNTIF('Технический лист'!D:D,"первая") -> 11 | J42: высшая | K42: =COUNTIF('Технический лист'!D:D,"высшая") -> 7 | N42: педагог-методист | O42: =COUNTIF('Технический лист'!D:D,"педагог-методист") -> 0 | Q42: педагог-наставник | R42: =COUNTIF('Технический лист'!D:D,"педагог-наставник") -> 0
A44: Данные по стажу
A45: (возможно использование фильтра на листе "Список", тогда ниже будут отображаться промежуточные итоги по отобранным значениям)
A47: Средний общий стаж | B47: =SUBTOTAL(101,Список!Z8:Z3923) -> 21.925926 | G47: Средний педагогический стаж | H47: =SUBTOTAL(101,Список!AA8:AA3923) -> 17.333333 | M47: Средний стаж (в данном учреждении) | N47: =SUBTOTAL(101,Список!AB8:AB3923) -> #REF!
A49: Данные по наградам
A51: Федеральные | D51: Тюменской области | K51: Тюменского района / округа
A52: Наименование награды | B52: Кол-во | D52: Почетная грамота Губернатора Тюменской области | I52: =COUNTIF('Технический лист'!$E:$E,'СВОД (защита)'!D52) -> 0 | K52: Звание "Почетный гражданин ТМР" | O52: =COUNTIF('Технический лист'!$E:$E,'СВОД (защита)'!K52) -> 0 | Q52: Иные награды | S52: =COUNTA('Технический лист'!E:E)-COUNTIF('Технический лист'!E:E,0)-1-SUM(B53:B61,I52:I61,O52:O65) -> 334
A53: Заслуженный учитель РФ | B53: =COUNTIF('Технический лист'!$E:$E,'СВОД (защита)'!A53) -> 0 | D53: Благодарность Губернатора Тюменской области | I53: =COUNTIF('Технический лист'!$E:$E,'СВОД (защита)'!D53) -> 0 | K53: Почетная грамота Главы Тюменского района | O53: =COUNTIF('Технический лист'!$E:$E,'СВОД (защита)'!K53) -> 0
A54: Отличник просвещения РФ | B54: =COUNTIF('Технический лист'!$E:$E,'СВОД (защита)'!A54) -> 0 | D54: Почетная грамота Тюменской областной Думы | I54: =COUNTIF('Технический лист'!$E:$E,'СВОД (защита)'!D54) -> 0 | K54: Благодарственное письмо Главы Тюменского района | O54: =COUNTIF('Технический лист'!$E:$E,'СВОД (защита)'!K54) -> 3 | Q54: ИТОГО | S54: =SUM(B53:B63,I52:I61,O52:O67,S52) -> 346
A55: Отличник просвещения СССР | B55: =COUNTIF('Технический лист'!$E:$E,'СВОД (защита)'!A55) -> 0 | D55: Почетный нагрудный знак Тюменской областной Думы | I55: =COUNTIF('Технический лист'!$E:$E,'СВОД (защита)'!D55) -> 0 | K55: Почетная грамота Думы ТМР | O55: =COUNTIF('Технический лист'!$E:$E,'СВОД (защита)'!K55) -> 0
A56: Медаль К.Д. Ушинского | B56: =COUNTIF('Технический лист'!$E:$E,'СВОД (защита)'!A56) -> 0 | D56: Благодарственное письмо Тюменской областной Думы | I56: =COUNTIF('Технический лист'!$E:$E,'СВОД (защита)'!D56) -> 0 | K56: Благодарственное письмо Думы ТМР | O56: =COUNTIF('Технический лист'!$E:$E,'СВОД (защита)'!K56) -> 0
A57: Медаль Л.С. Выготского | B57: =COUNTIF('Технический лист'!$E:$E,'СВОД (защита)'!A57) -> 0 | D57: Знак отличия Тюменской области "Почетный наставник" | I57: =COUNTIF('Технический лист'!$E:$E,'СВОД (защита)'!D57) -> 0 | K57: Почетная грамота УО АТМР | O57: =COUNTIF('Технический лист'!$E:$E,'СВОД (защита)'!K57) -> 2
A58: Почетный работник сферы образования РФ | B58: =COUNTIF('Технический лист'!$E:$E,'СВОД (защита)'!A58) -> 2 | D58: Почетный работник науки и образования Тюменской области | I58: =COUNTIF('Технический лист'!$E:$E,'СВОД (защита)'!D58) -> 0 | K58: Благодарственное письмо УО АТМР | O58: =COUNTIF('Технический лист'!$E:$E,'СВОД (защита)'!K58) -> 1
A59: Почетный работник сферы воспитания детей и молодежи РФ | B59: =COUNTIF('Технический лист'!$E:$E,'СВОД (защита)'!A59) -> 0 | D59: Благодарственное письмо Правительства Тюменской области | I59: =COUNTIF('Технический лист'!$E:$E,'СВОД (защита)'!D59) -> 0 | K59: Звание "Почетный гражданин ТМО" | O59: =COUNTIF('Технический лист'!$E:$E,'СВОД (защита)'!K59) -> 0
A60: Почетный наставник | B60: =COUNTIF('Технический лист'!$E:$E,'СВОД (защита)'!A60) -> 0 | D60: Почетная грамота ДОиН ТО | I60: =COUNTIF('Технический лист'!$E:$E,'СВОД (защита)'!D60) -> 2 | K60: Почетная грамота Главы Тюменского округа | O60: =COUNTIF('Технический лист'!$E:$E,'СВОД (защита)'!K60) -> 0
A61: Знак отличия Минпросвещения РФ "За верность профессии" | B61: =COUNTIF('Технический лист'!$E:$E,'СВОД (защита)'!A61) -> 0 | D61: Благодарность ДОиН ТО | I61: =COUNTIF('Технический лист'!$E:$E,'СВОД (защита)'!D61) -> 0 | K61: Благодарственное письмо Главы Тюменского округа | O61: =COUNTIF('Технический лист'!$E:$E,'СВОД (защита)'!K61) -> 0
A62: Знак отличия Минпросвещения РФ "Молодость и профессионализм" | B62: =COUNTIF('Технический лист'!$E:$E,'СВОД (защита)'!A62) -> 0 | K62: Почетная грамота Думы ТМО | O62: =COUNTIF('Технический лист'!$E:$E,'СВОД (защита)'!K62) -> 0
A63: Почетная грамота Минпросвещения РФ | B63: =COUNTIF('Технический лист'!$E:$E,'СВОД (защита)'!A63) -> 0 | K63: Благодарственное письмо Думы ТМО | O63: =COUNTIF('Технический лист'!$E:$E,'СВОД (защита)'!K63) -> 0
K64: Почетная грамота УО АТМО | O64: =COUNTIF('Технический лист'!$E:$E,'СВОД (защита)'!K64) -> 1
K65: Благодарственное письмо УО АТМО | O65: =COUNTIF('Технический лист'!$E:$E,'СВОД (защита)'!K65) -> 1
K66: Доска почета ТМР | O66: =COUNTIF('Технический лист'!$E:$E,'СВОД (защита)'!K66) -> 0
K67: Доска почета ТМО | O67: =COUNTIF('Технический лист'!$E:$E,'СВОД (защита)'!K67) -> 0
A69: Указать нужный год | B69: =COUNTIF(Список!G:G,'СВОД (защита)'!A69) -> 0 | E69: Указать нужный год | F69: =COUNTIF(Список!G:G,'СВОД (защита)'!E69) -> 0 | J69: Указать нужный год | K69: =COUNTIF(Список!G:G,'СВОД (защита)'!J69) -> 0 | O69: Указать нужный год | P69: =COUNTIF(Список!G:G,'СВОД (защита)'!O69) -> 0 | S69: Указать нужный год | T69: =COUNTIF(Список!G:G,'СВОД (защита)'!S69) -> 0

Sheet Список
H1: Контрольный список педагогических работников на 2025-2026 учебный год
H2: МАОУ Луговская СОШ
A4: Фильтр для скрытия пустых строк (снять "0") | B4: Категория (по основной должности) | C4: Статус | D4: Формула (совмещение / совместительство) | E4: Формула - проверка по образованию | F4: Формула - последний год курсов | G4: Формула - последний год награды | H4: № п/п | I4: Ф.И.О. работника | J4: Должность | K4: Образование / профессиональная переподготовка | O4: Курсы повышения квалификации (за последние 3 года) | S4: Ученая степень | T4: Категория | W4: Награды | Y4: Дата трудоустройства | Z4: Стаж работы | AD4: Учебная нагрузка | AH4: Примечание
K5: Уровень | L5: Наименование учреждения | M5: Год окончания | N5: Специальность по диплому | O5: Наименование учреждения | P5: Наименование курсов | Q5: Объем курсов (часов) | R5: Год прохождения | T5: Наименование | U5: Год присвоения | V5: Реквизиты документа о присвоении (дата, №) | W5: Наименование награды | X5: Год получения | Z5: общий | AA5: педагогический | AB5: в данном учреждении | AC5: руководящий | AD5: Предмет / должность | AE5: Нагрузка | AG5: В каких классах
AE6: в часах | AF6: в ставках
A7: Х | B7: Х | C7: Х | D7: Х | E7: Х | F7: Х | G7: Х | H7: 1 | I7: 2 | J7: 5 | K7: 6 | L7: 7 | M7: 8 | N7: 9 | O7: 10 | P7: 11 | Q7: 12 | R7: 13 | S7: 14 | T7: 15 | U7: 16 | V7: 17 | W7: 18 | X7: 19 | Y7: 20 | Z7: 21 | AA7: 22 | AB7: 23 | AC7: 24 | AD7: 25 | AE7: 26 | AF7: 27 | AG7: 28 | AH7: 31
A8: =COUNTA(H8:K8,L8:AH8)-7 -> 3 | B8: АУП | C8: Работает | E8: =IF(K8="ВО",4,IF(K8="СПО",3,IF(K8="ВО (студент)",2,IF(K8="СПО (студент)",1,0)))) -> 4 | H8: 2 | I8: Придорогина Татьяна Владимировна | J8: Основная: | K8: ВО | T8: Х | U8: Х | V8: Х | AB8: =IF(Y8<1,"-",ROUND(YEARFRAC(Y8,#REF!,1),2)) -> - | AD8: Директор | AF8: 1
A9: =COUNTA(H9:K9,L9:AH9) -> 1 | E9: =IF(K9="ВО",4,IF(K9="СПО",3,IF(K9="ВО (студент)",2,IF(K9="СПО (студент)",1,0)))) -> 0 | J9: Директор
A10: 0 | E10: =MAX(E8:E9) -> 4 | F10: =RIGHT(R10,4) -> - 0 | G10: =RIGHT(X10,4) -> - 0 | J10: ИТОГО: | K10: =IF(E10=4,"ВО",IF(E10=3,"СПО",IF(E10=2,"ВО (с)",IF(E10=1,"СПО (с)","-")))) -> ВО | L10: =COUNTA(L8:L9) -> 0 | M10: Х | N10: Х | O10: =COUNTA(O8:O9) -> 0 | P10: Х | Q10: =SUM(Q8:Q9) -> 0 | R10: =CONCATENATE("П.Г.П. - ",MAX(R8:R9)) -> П.Г.П. - 0 | S10: =COUNTA(S8) -> 0 | T10: =T9 -> 0 | U10: Х | V10: Х | W10: =COUNTA(W8:W9) -> 0 | X10: =CONCATENATE("П.Г.П. - ",MAX(X8:X9)) -> П.Г.П. - 0 | Y10: =Y8 -> 0 | Z10: =IF(Z8="","-",Z8) -> - | AA10: =IF(AA8="","-",AA8) -> - | AB10: =IF(AB8="","-",AB8) -> - | AC10: =IF(AC8="","-",AC8) -> - | AD10: Х | AE10: =SUM(AE8:AE9) -> 0 | AF10: =SUM(AF8:AF9) -> 1 | AG10: Х | AH10: Х
A11: =COUNTA(H11:K11,L11:AH11)-7 -> 16 | B11: Учитель | C11: Работает | E11: =IF(K11="ВО",4,IF(K11="СПО",3,IF(K11="ВО (студент)",2,IF(K11="СПО (студент)",1,0)))) -> 4 | H11: 3 | I11: Евсина Оксана Викторовна | J11: Основная: | K11: ВО | L11: ГОУ ВПО Ишимский государтсвенный педагогический институт | M11: 2005 | N11: учитель биологии и географии | O11: ГАОУ ТО ДПО "ТОГИРРО" | P11: Реализация требований обновленных ФГОС ООО в работе учителя (учебный предмет "Химия") | Q11: 40 | R11: 2023 | T11: Х | U11: Х | V11: Х | Y11: 38579 | Z11: 20 | AA11: 16 | AB11: =IF(Y11<1,"-",ROUND(YEARFRAC(Y11,#REF!,1),2)) -> #REF! | AC11: 4 | AD11: биология | AE11: 22 | AF11: =AE11/18 -> 1.2222222 | AG11: 5, 6,7, 8, 9,10,11 кл.
A12: =COUNTA(H12:K12,L12:AH12) -> 18 | E12: =IF(K12="ВО",4,IF(K12="СПО",3,IF(K12="ВО (студент)",2,IF(K12="СПО (студент)",1,0)))) -> 0 | J12: Учитель | K12: ПП | L12: ООО "Межрегиональный учебный центр-Прогресс" | M12: 2018 | N12: менеджер в образовании | O12: ФГАОУ ДПО "АРГПиПРРО МинПросвецения РФ" | P12: Школа современного учителя биологии: достижения российской науки | Q12: 60 | R12: 2023 | T12: первая | U12: 2021 | V12: 24.06.2021 №165-К | W12: Благодарственное письмо УО АТМО | X12: 2023 | AD12: химия | AE12: 13 | AF12: =AE12/18 -> 0.72222222 | AG12: 8, 9, 10, 11 кл.
A13: =COUNTA(H13:K13,L13:AH13,J14)-4 -> 9 | E13: =IF(K13="ВО",4,IF(K13="СПО",3,IF(K13="ВО (студент)",2,IF(K13="СПО (студент)",1,0)))) -> 0 | J13: По совмещению: | O13: ООО "Межрегиональная Академия образования" | P13: Менеджер в образовании | Q13: 72 | R13: 2024 | T13: Х | U13: Х | V13: Х | AD13: практикум "По решению биологических задач" | AE13: 1 | AF13: =AE13/18 -> 0.055555556 | AG13: 11 кл
A14: =COUNTA(H14:K14,L14:AH14) -> 3 | D14: =IF(J14>0,"совмещение","-") -> совмещение | E14: =IF(K14="ВО",4,IF(K14="СПО",3,IF(K14="ВО (студент)",2,IF(K14="СПО (студент)",1,0)))) -> 0 | J14: Заместитель директора | AD14: Заместитель директора | AF14: 0.5
A15: 0 | E15: =MAX(E11:E14) -> 4 | F15: =RIGHT(R15,4) -> 2024 | G15: =RIGHT(X15,4) -> 2023 | J15: ИТОГО: | K15: =IF(E15=4,"ВО",IF(E15=3,"СПО",IF(E15=2,"ВО (с)",IF(E15=1,"СПО (с)","-")))) -> ВО | L15: =COUNTA(L11:L14) -> 2 | M15: Х | N15: Х | O15: =COUNTA(O11:O14) -> 3 | P15: Х | Q15: =SUM(Q11:Q14) -> 172 | R15: =CONCATENATE("П.Г.П. - ",MAX(R11:R14)) -> П.Г.П. - 2024 | S15: =COUNTA(S11) -> 0 | T15: =T12 -> первая | U15: Х | V15: Х | W15: =COUNTA(W11:W14) -> 1 | X15: =CONCATENATE("П.Г.П. - ",MAX(X11:X14)) -> П.Г.П. - 2023 | Y15: =Y11 -> 38579 | Z15: =IF(Z11="","-",Z11) -> 20 | AA15: =IF(AA11="","-",AA11) -> 16 | AB15: =IF(AB11="","-",AB11) -> #REF! | AC15: =IF(AC11="","-",AC11) -> 4 | AD15: Х | AE15: =SUM(AE11:AE14) -> 36 | AF15: =SUM(AF11:AF14) -> 2.5 | AG15: Х | AH15: Х
A16: =COUNTA(H16:K16,L16:AH16)-7 -> 16 | B16: Учитель | C16: Работает | E16: =IF(K16="ВО",4,IF(K16="СПО",3,IF(K16="ВО (студент)",2,IF(K16="СПО (студент)",1,0)))) -> 4 | H16: 4 | I16: Конопельцева Ирина Петровна | J16: Основная: | K16: ВО | L16: Иркутский государственный педагогический иститут | M16: 1995 | N16: учитель начальных классов | O16: ГАОУ ТО ДПО "ТОГИРРО" | P16: Реализация требований обновленных ФГОС начального общего образования в работе учителя | Q16: 36 | R16: 2022 | T16: Х | U16: Х | V16: Х | Y16: 39692 | Z16: 41 | AA16: 41 | AB16: =IF(Y16<1,"-",ROUND(YEARFRAC(Y16,#REF!,1),2)) -> #REF! | AC16: 17 | AD16: начальные классы | AE16: 21 | AF16: =AE16/18 -> 1.1666667 | AG16: 4Б
A17: =COUNTA(H17:K17,L17:AH17) -> 14 | E17: =IF(K17="ВО",4,IF(K17="СПО",3,IF(K17="ВО (студент)",2,IF(K17="СПО (студент)",1,0)))) -> 0 | J17: Учитель | K17: ПП | L17: ООО "Межрегиональный учебный центр-Прогресс" | M17: 2018 | N17: менеджер в образовании | O17: ООО "Межрегиональная Академия образования" | P17: Менеджер в образовании | Q17: 72 | R17: 2024 | T17: высшая | U17: 2021 | V17: 24.06.2021 №165-К | W17: Почетная грамота УО АТМР | X17: 2013
A18: =COUNTA(H18:K18,L18:AH18,J19)-4 -> 1 | E18: =IF(K18="ВО",4,IF(K18="СПО",3,IF(K18="ВО (студент)",2,IF(K18="СПО (студент)",1,0)))) -> 0 | J18: По совмещению: | T18: Х | U18: Х | V18: Х
A19: =COUNTA(H19:K19,L19:AH19) -> 3 | D19: =IF(J19>0,"совмещение","-") -> совмещение | E19: =IF(K19="ВО",4,IF(K19="СПО",3,IF(K19="ВО (студент)",2,IF(K19="СПО (студент)",1,0)))) -> 0 | J19: Заместитель директора | AD19: Заместитель директора | AF19: 0.5
A20: 0 | E20: =MAX(E16:E19) -> 4 | F20: =RIGHT(R20,4) -> 2024 | G20: =RIGHT(X20,4) -> 2013 | J20: ИТОГО: | K20: =IF(E20=4,"ВО",IF(E20=3,"СПО",IF(E20=2,"ВО (с)",IF(E20=1,"СПО (с)","-")))) -> ВО | L20: =COUNTA(L16:L19) -> 2 | M20: Х | N20: Х | O20: =COUNTA(O16:O19) -> 2 | P20: Х | Q20: =SUM(Q16:Q19) -> 108 | R20: =CONCATENATE("П.Г.П. - ",MAX(R16:R19)) -> П.Г.П. - 2024 | S20: =COUNTA(S16) -> 0 | T20: =T17 -> высшая | U20: Х | V20: Х | W20: =COUNTA(W16:W19) -> 1 | X20: =CONCATENATE("П.Г.П. - ",MAX(X16:X19)) -> П.Г.П. - 2013 | Y20: =Y16 -> 39692 | Z20: =IF(Z16="","-",Z16) -> 41 | AA20: =IF(AA16="","-",AA16) -> 41 | AB20: =IF(AB16="","-",AB16) -> #REF! | AC20: =IF(AC16="","-",AC16) -> 17 | AD20: Х | AE20: =SUM(AE16:AE19) -> 21 | AF20: =SUM(AF16:AF19) -> 1.6666667 | AG20: Х | AH20: Х
A21: =COUNTA(H21:K21,L21:AH21)-7 -> 8 | B21: Учитель | C21: Работает | E21: =IF(K21="ВО",4,IF(K21="СПО",3,IF(K21="ВО (студент)",2,IF(K21="СПО (студент)",1,0)))) -> 0 | H21: 5 | I21: Степанова Мария Леонидовна | J21: Основная: | T21: Х | U21: Х | V21: Х | Y21: 43340 | Z21: 13 | AA21: 7 | AB21: =IF(Y21<1,"-",ROUND(YEARFRAC(Y21,#REF!,1),2)) -> #REF! | AC21: 4 | AD21: география | AE21: 18 | AF21: =AE21/18 -> 1 | AG21: 5,6,7,8,9,10,11 классы
A22: =COUNTA(H22:K22,L22:AH22) -> 18 | E22: =IF(K22="ВО",4,IF(K22="СПО",3,IF(K22="ВО (студент)",2,IF(K22="СПО (студент)",1,0)))) -> 4 | J22: Учитель | K22: ВО | L22: ГОУ ВПО ТюмГУ | M22: 2009 | N22: географ | O22: ГАОУ ТО ДПО "ТОГИРРО" | P22: Реализация требований обновлённых ФГОС в работе учителя" (учебный предмет "География") | Q22: 36 | R22: 2022 | T22: высшая | U22: 2025 | V22: 87-к от 27.03.2025 г | W22: Благодарственное письмо УО АТМР | X22: 2024 | AD22: ОБиЗР | AE22: 6 | AF22: =AE22/18 -> 0.33333333 | AG22: 8,9,10, 11 классы
A23: =COUNTA(H23:K23,L23:AH23,J24)-4 -> 13 | E23: =IF(K23="ВО",4,IF(K23="СПО",3,IF(K23="ВО (студент)",2,IF(K23="СПО (студент)",1,0)))) -> 4 | J23: По совмещению: | K23: ВО | L23: ГОУ ВПО ТюмГУ | M23: 2009 | N23: преподаватель | O23: ГАОУ ТО ДПО "ТОГИРРО" | P23: Эффективность управления деятельностью руководителя ОО | Q23: 36 | R23: 2022 | T23: Х | U23: Х | V23: Х | AD23: Физика | AE23: 23 | AF23: =AE23/18 -> 1.2777778 | AG23: 7,8,9,10,11 классы
A24: =COUNTA(H24:K24,L24:AH24) -> 13 | D24: =IF(J24>0,"совмещение","-") -> совмещение | E24: =IF(K24="ВО",4,IF(K24="СПО",3,IF(K24="ВО (студент)",2,IF(K24="СПО (студент)",1,0)))) -> 0 | J24: Заместитель директора | K24: ПП | L24: ООО "Межрегиональный учебный центр-Прогресс" | M24: 2024 | N24: менеджер в образовании | O24: ФГАОУ ДПО "Академия реализации госполитики и профессиоального развития работника образования Министерства просвещения РФ" | P24: Внутренняя система оценки качества образования: развитие в соответствии с обновленными ФГОС | Q24: 36 | R24: 2022 | AD24: индивидуальный проект | AE24: 1 | AF24: =AE24/18 -> 0.055555556 | AG24: 10 кл.
A25: =COUNTA(H25:K25,L25:AH25) -> 12 | E25: =IF(K25="ВО",4,IF(K25="СПО",3,IF(K25="ВО (студент)",2,IF(K25="СПО (студент)",1,0)))) -> 0 | K25: ПП | L25: ООО "Инфорурок" | M25: 2022 | N25: Учитель математики | O25: ФГАОУ ВО "Государственный университет просвещения" | P25: Особенности преподавания учебного предмета "Основы безопасности и защиты Родины" у условиях внесения изменений в ФОП ООО и ФОП СОО | Q25: 24 | R25: 2024 | AD25: ЭК "По решению физических задач" | AE25: 1 | AF25: =AE25/18 -> 0.055555556 | AG25: 10 кл.
A26: =COUNTA(H26:K26,L26:AH26) -> 10 | E26: =IF(K26="ВО",4,IF(K26="СПО",3,IF(K26="ВО (студент)",2,IF(K26="СПО (студент)",1,0)))) -> 0 | K26: ПП | L26: ООО "Центр повышения квалификации и переподготовки "Луч знаний" | M26: 2024 | N26: Учитель информатики | O26: ООО "Межрегиональная Академия образования" | P26: Педагогическое взаимодействие с детьми с ОВЗ как фактор их успешной социализации | Q26: 72 | R26: 2024 | AD26: Заместитель директора | AF26: 0.5
A27: =COUNTA(H27:K27,L27:AH27) -> 8 | E27: =IF(K27="ВО",4,IF(K27="СПО",3,IF(K27="ВО (студент)",2,IF(K27="СПО (студент)",1,0)))) -> 0 | K27: ПП | L27: ООО "Инфоурок" | M27: 2025 | N27: учитель физики | O27: ГАОУ ТО ДПО "ТОГИРРО" | P27: Реализация требований, обновленных ФГОС ООО и ФГОС СОО в работе учителя географии | Q27: 40 | R27: 2025
A28: =COUNTA(H28:K28,L28:AH28) -> 4 | E28: =IF(K28="ВО",4,IF(K28="СПО",3,IF(K28="ВО (студент)",2,IF(K28="СПО (студент)",1,0)))) -> 0 | O28: ГАОУ ТО ДПО "ТОГИРРО" | P28: Современные методики обучения математики в контексте ФГОС | Q28: 40 | R28: 2025
A29: 0 | E29: =MAX(E21:E28) -> 4 | F29: =RIGHT(R29,4) -> 2025 | G29: =RIGHT(X29,4) -> 2024 | J29: ИТОГО: | K29: =IF(E29=4,"ВО",IF(E29=3,"СПО",IF(E29=2,"ВО (с)",IF(E29=1,"СПО (с)","-")))) -> ВО | L29: =COUNTA(L21:L28) -> 6 | M29: Х | N29: Х | O29: =COUNTA(O22:O28) -> 7 | P29: Х | Q29: =SUM(Q21:Q28) -> 284 | R29: =CONCATENATE("П.Г.П. - ",MAX(R21:R28)) -> П.Г.П. - 2025 | S29: =COUNTA(S21) -> 0 | T29: =T22 -> высшая | U29: Х | V29: Х | W29: =COUNTA(W21:W28) -> 1 | X29: =CONCATENATE("П.Г.П. - ",MAX(X21:X28)) -> П.Г.П. - 2024 | Y29: =Y21 -> 43340 | Z29: =IF(Z21="","-",Z21) -> 13 | AA29: =IF(AA21="","-",AA21) -> 7 | AB29: =IF(AB21="","-",AB21) -> #REF! | AC29: =IF(AC21="","-",AC21) -> 4 | AD29: Х | AE29: =SUM(AE21:AE28) -> 49 | AF29: =SUM(AF21:AF28) -> 3.2222222 | AG29: Х | AH29: Х
A30: =COUNTA(H30:K30,L30:AH30)-7 -> 7 | B30: Учитель | C30: Работает | E30: =IF(K30="ВО",4,IF(K30="СПО",3,IF(K30="ВО (студент)",2,IF(K30="СПО (студент)",1,0)))) -> 0 | H30: 6 | I30: Белинская Екатерина Александровна | J30: Основная: | T30: Х | U30: Х | V30: Х | Y30: 44251 | Z30: 17 | AA30: 5 | AB30: =IF(Y30<1,"-",ROUND(YEARFRAC(Y30,#REF!,1),2)) -> #REF! | AD30: английский язык | AE30: 34 | AF30: =AE30/18 -> 1.8888889 | AG30: 5, 8, 9, 10, 11 классы
A31: =COUNTA(H31:K31,L31:AH31) -> 12 | E31: =IF(K31="ВО",4,IF(K31="СПО",3,IF(K31="ВО (студент)",2,IF(K31="СПО (студент)",1,0)))) -> 4 | J31: Учитель | K31: ВО | L31: Сургутский государственный педагогический университет | M31: 2006 | N31: учитель французского и английского языков | O31: ГАОУ ТО ДПО "ТОГИРРО" | P31: Семинар "Креативное мышление - элемент функциональной грамотности" | Q31: 8 | R31: 2023 | T31: первая | U31: 2024 | V31: 28.11.2024 №394-К
A32: =COUNTA(H32:K32,L32:AH32,#REF!)-4 -> 4 | E32: =IF(K32="ВО",4,IF(K32="СПО",3,IF(K32="ВО (студент)",2,IF(K32="СПО (студент)",1,0)))) -> 0 | O32: ГАОУ ТО ДПО "ТОГИРРО" | P32: Проектирование соременного урока на основе анализа результатов процедур оценки качества образования (учебный предмет "Иностранный язык") | Q32: 36 | R32: 2024 | T32: Х | U32: Х | V32: Х
A33: 0 | E33: =MAX(E30:E32) -> 4 | F33: =RIGHT(R33,4) -> 2024 | G33: =RIGHT(X33,4) -> - 0 | J33: ИТОГО: | K33: =IF(E33=4,"ВО",IF(E33=3,"СПО",IF(E33=2,"ВО (с)",IF(E33=1,"СПО (с)","-")))) -> ВО | L33: =COUNTA(L30:L32) -> 1 | M33: Х | N33: Х | O33: =COUNTA(O30:O32) -> 2 | P33: Х | Q33: =SUM(Q30:Q32) -> 44 | R33: =CONCATENATE("П.Г.П. - ",MAX(R30:R32)) -> П.Г.П. - 2024 | S33: =COUNTA(S30) -> 0 | T33: =T31 -> первая | U33: Х | V33: Х | W33: =COUNTA(W30:W32) -> 0 | X33: =CONCATENATE("П.Г.П. - ",MAX(X30:X32)) -> П.Г.П. - 0 | Y33: =Y30 -> 44251 | Z33: =IF(Z30="","-",Z30) -> 17 | AA33: =IF(AA30="","-",AA30) -> 5 | AB33: =IF(AB30="","-",AB30) -> #REF! | AC33: =IF(AC30="","-",AC30) -> - | AD33: Х | AE33: =SUM(AE30:AE32) -> 34 | AF33: =SUM(AF30:AF32) -> 1.8888889 | AG33: Х | AH33: Х
A34: =COUNTA(H34:K34,L34:AH34)-7 -> 7 | B34: Учитель | C34: Работает | E34: =IF(K34="ВО",4,IF(K34="СПО",3,IF(K34="ВО (студент)",2,IF(K34="СПО (студент)",1,0)))) -> 0 | H34: 7 | I34: Бояркина Маргарита Владимировна | J34: Основная: | T34: Х | U34: Х | V34: Х | Y34: 37138 | Z34: 43 | AA34: 43 | AB34: =IF(Y34<1,"-",ROUND(YEARFRAC(Y34,#REF!,1),2)) -> #REF! | AD34: начальные классы | AE34: 21 | AF34: =AE34/18 -> 1.1666667 | AG34: 3А кл.
A35: =COUNTA(H35:K35,L35:AH35) -> 14 | E35: =IF(K35="ВО",4,IF(K35="СПО",3,IF(K35="ВО (студент)",2,IF(K35="СПО (студент)",1,0)))) -> 4 | J35: Учитель | K35: ВО | L35: Ишимский государственный педагогический институт | M35: 1985 | N35: учитель начальных классов | O35: ГАОУ ТО ДПО "ТОГИРРО" | P35: Реализация требований обновленных ФГОС начального общего образования в работе учителя | Q35: 36 | R35: 2022 | T35: высшая | U35: 2023 | V35: 27.04.2023 №177-К | W35: Почетная грамота ДОиН ТО | X35: 2021
A36: =COUNTA(H36:K36,L36:AH36,#REF!)-4 -> 2 | E36: =IF(K36="ВО",4,IF(K36="СПО",3,IF(K36="ВО (студент)",2,IF(K36="СПО (студент)",1,0)))) -> 0 | T36: Х | U36: Х | V36: Х | W36: Почетная грамота УО АТМО | X36: 2013
A37: 0 | E37: =MAX(E34:E36) -> 4 | F37: =RIGHT(R37,4) -> 2022 | G37: =RIGHT(X37,4) -> 2021 | J37: ИТОГО: | K37: =IF(E37=4,"ВО",IF(E37=3,"СПО",IF(E37=2,"ВО (с)",IF(E37=1,"СПО (с)","-")))) -> ВО | L37: =COUNTA(L34:L36) -> 1 | M37: Х | N37: Х | O37: =COUNTA(O34:O36) -> 1 | P37: Х | Q37: =SUM(Q34:Q36) -> 36 | R37: =CONCATENATE("П.Г.П. - ",MAX(R34:R36)) -> П.Г.П. - 2022 | S37: =COUNTA(S34) -> 0 | T37: =T35 -> высшая | U37: Х | V37: Х | W37: =COUNTA(W34:W36) -> 2 | X37: =CONCATENATE("П.Г.П. - ",MAX(X34:X36)) -> П.Г.П. - 2021 | Y37: =Y34 -> 37138 | Z37: =IF(Z34="","-",Z34) -> 43 | AA37: =IF(AA34="","-",AA34) -> 43 | AB37: =IF(AB34="","-",AB34) -> #REF! | AC37: =IF(AC34="","-",AC34) -> - | AD37: Х | AE37: =SUM(AE34:AE36) -> 21 | AF37: =SUM(AF34:AF36) -> 1.1666667 | AG37: Х | AH37: Х
A38: =COUNTA(H38:K38,L38:AH38)-7 -> 7 | B38: Учитель | C38: Работает | E38: =IF(K38="ВО",4,IF(K38="СПО",3,IF(K38="ВО (студент)",2,IF(K38="СПО (студент)",1,0)))) -> 0 | H38: 8 | I38: Голубева Елена Павловна | J38: Основная: | T38: Х | U38: Х | V38: Х | Y38: 45870 | Z38: 33 | AA38: 1 | AB38: =IF(Y38<1,"-",ROUND(YEARFRAC(Y38,#REF!,1),2)) -> #REF! | AD38: русский язык | AE38: 23 | AF38: =AE38/18 -> 1.2777778 | AG38: 6,7, 8Б кл
A39: =COUNTA(H39:K39,L39:AH39) -> 9 | E39: =IF(K39="ВО",4,IF(K39="СПО",3,IF(K39="ВО (студент)",2,IF(K39="СПО (студент)",1,0)))) -> 4 | J39: Учитель | K39: ВО | L39: Тюменский государственный университет | M39: 1998 | N39: Филолог | AD39: литература | AE39: 12 | AF39: =AE39/18 -> 0.66666667 | AG39: 6,7,8Б кл
A40: =COUNTA(H40:K40,L40:AH40,#REF!)-4 -> 4 | E40: =IF(K40="ВО",4,IF(K40="СПО",3,IF(K40="ВО (студент)",2,IF(K40="СПО (студент)",1,0)))) -> 0 | T40: Х | U40: Х | V40: Х | AD40: ЭК "Комплексный анализ текста" | AE40: 5 | AF40: =AE40/18 -> 0.27777778 | AG40: 6,7,8Б кл
A41: 0 | E41: =MAX(E38:E40) -> 4 | F41: =RIGHT(R41,4) -> - 0 | G41: =RIGHT(X41,4) -> - 0 | J41: ИТОГО: | K41: =IF(E41=4,"ВО",IF(E41=3,"СПО",IF(E41=2,"ВО (с)",IF(E41=1,"СПО (с)","-")))) -> ВО | L41: =COUNTA(L38:L40) -> 1 | M41: Х | N41: Х | O41: =COUNTA(O38:O40) -> 0 | P41: Х | Q41: =SUM(Q38:Q40) -> 0 | R41: =CONCATENATE("П.Г.П. - ",MAX(R38:R40)) -> П.Г.П. - 0 | S41: =COUNTA(S38) -> 0 | T41: =T39 -> 0 | U41: Х | V41: Х | W41: =COUNTA(W38:W40) -> 0 | X41: =CONCATENATE("П.Г.П. - ",MAX(X38:X40)) -> П.Г.П. - 0 | Y41: =Y38 -> 45870 | Z41: =IF(Z38="","-",Z38) -> 33 | AA41: =IF(AA38="","-",AA38) -> 1 | AB41: =IF(AB38="","-",AB38) -> #REF! | AC41: =IF(AC38="","-",AC38) -> - | AD41: Х | AE41: =SUM(AE38:AE40) -> 40 | AF41: =SUM(AF38:AF40) -> 2.2222222 | AG41: Х | AH41: Х
A42: =COUNTA(H42:K42,L42:AH42)-7 -> 7 | B42: Учитель | C42: Работает | E42: =IF(K42="ВО",4,IF(K42="СПО",3,IF(K42="ВО (студент)",2,IF(K42="СПО (студент)",1,0)))) -> 0 | H42: 9 | I42: Дмитриева Виктория Викторовна | J42: Основная: | T42: Х | U42: Х | V42: Х | Y42: 43344 | Z42: 8 | AA42: 7 | AB42: =IF(Y42<1,"-",ROUND(YEARFRAC(Y42,#REF!,1),2)) -> #REF! | AD42: математика | AE42: 10 | AF42: =AE42/18 -> 0.55555556 | AG42: 6
A43: =COUNTA(H43:K43,L43:AH43) -> 16 | E43: =IF(K43="ВО",4,IF(K43="СПО",3,IF(K43="ВО (студент)",2,IF(K43="СПО (студент)",1,0)))) -> 4 | J43: Учитель | K43: ВО | L43: Шадринский государственный педагогический университет | M43: 2015 | N43: Педагогическое образование | O43: ГАОУ ТО ДПО "ТОГИРРО" | P43: Реализация требований обновленных ФГОС начального общего образования в работе учителя | Q43: 36 | R43: 2022 | T43: первая | U43: 2024 | V43: 26.12.2024 №421-К | AD43: ЭК "Практикум по решению математических задач" | AE43: 2 | AF43: =AE43/18 -> 0.11111111 | AG43: 6
A44: =COUNTA(H44:K44,L44:AH44,J45)-4 -> 6 | E44: =IF(K44="ВО",4,IF(K44="СПО",3,IF(K44="ВО (студент)",2,IF(K44="СПО (студент)",1,0)))) -> 3 | J44: По совмещению: | K44: СПО | L44: ГАОУ СПО Тюменский педагогический колледж №1" | M44: 2012 | N44: преподаватель в начальных классах | T44: Х | U44: Х | V44: Х | AD44: Системный администратор | AF44: 0.5
A45: =COUNTA(H45:K45,L45:AH45) -> 4 | D45: =IF(J45>0,"совмещение","-") -> - | E45: =IF(K45="ВО",4,IF(K45="СПО",3,IF(K45="ВО (студент)",2,IF(K45="СПО (студент)",1,0)))) -> 0 | K45: ПП | L45: ООО "Центр повышения квалификации и переподготовки "Луч знаний" | M45: 2024 | N45: учитель математики и информатики
A46: 0 | E46: =MAX(E42:E45) -> 4 | F46: =RIGHT(R46,4) -> 2022 | G46: =RIGHT(X46,4) -> - 0 | J46: ИТОГО: | K46: =IF(E46=4,"ВО",IF(E46=3,"СПО",IF(E46=2,"ВО (с)",IF(E46=1,"СПО (с)","-")))) -> ВО | L46: =COUNTA(L42:L45) -> 3 | M46: Х | N46: Х | O46: =COUNTA(O42:O45) -> 1 | P46: Х | Q46: =SUM(Q42:Q45) -> 36 | R46: =CONCATENATE("П.Г.П. - ",MAX(R42:R45)) -> П.Г.П. - 2022 | S46: =COUNTA(S42) -> 0 | T46: =T43 -> первая | U46: Х | V46: Х | W46: =COUNTA(W42:W45) -> 0 | X46: =CONCATENATE("П.Г.П. - ",MAX(X42:X45)) -> П.Г.П. - 0 | Y46: =Y42 -> 43344 | Z46: =IF(Z42="","-",Z42) -> 8 | AA46: =IF(AA42="","-",AA42) -> 7 | AB46: =IF(AB42="","-",AB42) -> #REF! | AC46: =IF(AC42="","-",AC42) -> - | AD46: Х | AE46: =SUM(AE42:AE45) -> 12 | AF46: =SUM(AF42:AF45) -> 1.1666667 | AG46: Х | AH46: Х
A47: =COUNTA(H47:K47,L47:AH47)-7 -> 5 | B47: Учитель | C47: Работает | E47: =IF(K47="ВО",4,IF(K47="СПО",3,IF(K47="ВО (студент)",2,IF(K47="СПО (студент)",1,0)))) -> 0 | H47: 10 | I47: Жанабекова Гульнара Мокашевна | J47: Основная: | T47: Х | U47: Х | V47: Х | Y47: 44438 | Z47: 18 | AA47: 15 | AB47: =IF(Y47<1,"-",ROUND(YEARFRAC(Y47,#REF!,1),2)) -> #REF! | AD47: Педагог-психолог | AF47: 1
A48: =COUNTA(H48:K48,L48:AH48) -> 12 | E48: =IF(K48="ВО",4,IF(K48="СПО",3,IF(K48="ВО (студент)",2,IF(K48="СПО (студент)",1,0)))) -> 4 | J48: Педагог-психолог | K48: ВО | L48: ГОУ ВПО Курганский государственный университет | M48: 2009 | N48: Психолог, преподаватель психологии | O48: ФГАОУ ДПО "Академия реализации госполитики и профессиоального развития работника образования Министерства просвещения РФ" | P48: Организация деятельности профильных психолого-педагогических классов (групп) в образовательных организациях | Q48: 24 | R48: 2023 | T48: первая | U48: 2023 | V48: 30.11.2023 №474-К
A49: =COUNTA(H49:K49,L49:AH49,J50)-4 -> 3 | E49: =IF(K49="ВО",4,IF(K49="СПО",3,IF(K49="ВО (студент)",2,IF(K49="СПО (студент)",1,0)))) -> 0 | O49: ГАОУ ТО ДПО "ТОГИРРО" | P49: Психолого-педагогическое сопровождение учащихся в ОУ | Q49: 36 | R49: 2024 | T49: Х | U49: Х | V49: Х
A50: =COUNTA(H50:K50,L50:AH50) -> 4 | D50: =IF(J50>0,"совмещение","-") -> - | E50: =IF(K50="ВО",4,IF(K50="СПО",3,IF(K50="ВО (студент)",2,IF(K50="СПО (студент)",1,0)))) -> 0 | O50: АУ СОН ТО и ДПО "РСПЦН "Семья" | P50: Навигация, консультирование родителей, воспитывающих детей с различными образовательными потребностями, и оказание им информационно-методической помощи | Q50: 72 | R50: 2024
A51: =COUNTA(H51:K51,L51:AH51) -> 4 | E51: =IF(K51="ВО",4,IF(K51="СПО",3,IF(K51="ВО (студент)",2,IF(K51="СПО (студент)",1,0)))) -> 0 | O51: ГАОУ ТО ДПО "ТОГИРРО" | P51: Профилактика деструктивного поведения учащихся | Q51: 24 | R51: 2025
A52: =COUNTA(H52:K52,L52:AH52) -> 4 | E52: =IF(K52="ВО",4,IF(K52="СПО",3,IF(K52="ВО (студент)",2,IF(K52="СПО (студент)",1,0)))) -> 0 | O52: ФГАОУ ВО "ТюмГУ" | P52: Межнациональные и межконфессиональные отношения в современной России | Q52: 36 | R52: 2025
A53: 0 | E53: =MAX(E47:E52) -> 4 | F53: =RIGHT(R53,4) -> 2025 | G53: =RIGHT(X53,4) -> - 0 | J53: ИТОГО: | K53: =IF(E53=4,"ВО",IF(E53=3,"СПО",IF(E53=2,"ВО (с)",IF(E53=1,"СПО (с)","-")))) -> ВО | L53: =COUNTA(L47:L52) -> 1 | M53: Х | N53: Х | O53: =COUNTA(O47:O52) -> 5 | P53: Х | Q53: =SUM(Q47:Q52) -> 192 | R53: =CONCATENATE("П.Г.П. - ",MAX(R47:R52)) -> П.Г.П. - 2025 | S53: =COUNTA(S47) -> 0 | T53: =T48 -> первая | U53: Х | V53: Х | W53: =COUNTA(W47:W52) -> 0 | X53: =CONCATENATE("П.Г.П. - ",MAX(X47:X52)) -> П.Г.П. - 0 | Y53: =Y47 -> 44438 | Z53: =IF(Z47="","-",Z47) -> 18 | AA53: =IF(AA47="","-",AA47) -> 15 | AB53: =IF(AB47="","-",AB47) -> #REF! | AC53: =IF(AC47="","-",AC47) -> - | AD53: Х | AE53: =SUM(AE47:AE52) -> 0 | AF53: =SUM(AF47:AF52) -> 1 | AG53: Х | AH53: Х
A54: =COUNTA(H54:K54,L54:AH54)-7 -> 5 | B54: Учитель | C54: Работает | E54: =IF(K54="ВО",4,IF(K54="СПО",3,IF(K54="ВО (студент)",2,IF(K54="СПО (студент)",1,0)))) -> 0 | H54: 11 | I54: Жанабекова Жанар Аскеровна | J54: Основная: | T54: Х | U54: Х | V54: Х | Y54: 45694 | Z54: 3 | AA54: 3 | AB54: =IF(Y54<1,"-",ROUND(YEARFRAC(Y54,#REF!,1),2)) -> #REF! | AD54: Социальный педагог | AF54: 1
A55: =COUNTA(H55:K55,L55:AH55) -> 13 | E55: =IF(K55="ВО",4,IF(K55="СПО",3,IF(K55="ВО (студент)",2,IF(K55="СПО (студент)",1,0)))) -> 3 | J55: Социальный педагог | K55: СПО | L55: ГБПОУ "Курганский педагогический колледж" | M55: 2022 | N55: Преподаватель в начальных классах | O55: ГАОУ ДПО ИРОСТ | P55: Преподавание основ финансовой грамотности | Q55: 24 | R55: 2023 | AD55: Музыка | AE55: 8 | AF55: =AE55/18 -> 0.44444444 | AG55: 5,6,7,8 кл
A56: =COUNTA(H56:K56,L56:AH56,J57)-4 -> 9 | E56: =IF(K56="ВО",4,IF(K56="СПО",3,IF(K56="ВО (студент)",2,IF(K56="СПО (студент)",1,0)))) -> 2 | J56: По совместительству: | K56: ВО (студент) | L56: Курганский государственный университет | M56: 2026 | N56: социальный педагог | O56: ЦДПО "Экстерн" ООО "МОП" | P56: Содержание и технологии работы классного руководителя в условиях реализации ФГОС | Q56: 72 | R56: 2023 | T56: Х | U56: Х | V56: Х
A57: =COUNTA(H57:K57,L57:AH57) -> 5 | D57: =IF(J57>0,"совместительство","-") -> совместительство | E57: =IF(K57="ВО",4,IF(K57="СПО",3,IF(K57="ВО (студент)",2,IF(K57="СПО (студент)",1,0)))) -> 0 | J57: Учитель | O57: ГАОУ ДПО ИРОСТ | P57: Технология проведения уроков шахмат по курсу "Шахматы-школе": первый год обучения | Q57: 36 | R57: 2024
A58: =COUNTA(H58:K58,L58:AH58) -> 4 | E58: =IF(K58="ВО",4,IF(K58="СПО",3,IF(K58="ВО (студент)",2,IF(K58="СПО (студент)",1,0)))) -> 0 | O58: ГАОУ ДПО ИРОСТ | P58: Методические особенности формирования финансовой грамотности младших школьников на уроках математики и окружающего мира в соответствии с ФГОС НОО | Q58: 24 | R58: 2024
A59: 0 | E59: =MAX(E54:E58) -> 3 | F59: =RIGHT(R59,4) -> 2024 | G59: =RIGHT(X59,4) -> - 0 | J59: ИТОГО: | K59: =IF(E59=4,"ВО",IF(E59=3,"СПО",IF(E59=2,"ВО (с)",IF(E59=1,"СПО (с)","-")))) -> СПО | L59: =COUNTA(L54:L58) -> 2 | M59: Х | N59: Х | O59: =COUNTA(O54:O58) -> 4 | P59: Х | Q59: =SUM(Q54:Q58) -> 156 | R59: =CONCATENATE("П.Г.П. - ",MAX(R54:R58)) -> П.Г.П. - 2024 | S59: =COUNTA(S54) -> 0 | T59: =T55 -> 0 | U59: Х | V59: Х | W59: =COUNTA(W54:W58) -> 0 | X59: =CONCATENATE("П.Г.П. - ",MAX(X54:X58)) -> П.Г.П. - 0 | Y59: =Y54 -> 45694 | Z59: =IF(Z54="","-",Z54) -> 3 | AA59: =IF(AA54="","-",AA54) -> 3 | AB59: =IF(AB54="","-",AB54) -> #REF! | AC59: =IF(AC54="","-",AC54) -> - | AD59: Х | AE59: =SUM(AE54:AE58) -> 8 | AF59: =SUM(AF54:AF58) -> 1.4444444 | AG59: Х | AH59: Х
A60: =COUNTA(H60:K60,L60:AH60)-7 -> 5 | B60: Учитель | C60: Работает | E60: =IF(K60="ВО",4,IF(K60="СПО",3,IF(K60="ВО (студент)",2,IF(K60="СПО (студент)",1,0)))) -> 0 | H60: 12 | I60: Жукович Людмила Васильевна | J60: Основная: | T60: Х | U60: Х | V60: Х | Y60: 45901 | Z60: 19 | AA60: 10 | AB60: =IF(Y60<1,"-",ROUND(YEARFRAC(Y60,#REF!,1),2)) -> #REF! | AD60: Педагог-организатор | AF60: 1
A61: =COUNTA(H61:K61,L61:AH61) -> 13 | E61: =IF(K61="ВО",4,IF(K61="СПО",3,IF(K61="ВО (студент)",2,IF(K61="СПО (студент)",1,0)))) -> 3 | J61: Педагог-организатор | K61: СПО | L61: Голышмановское педагогическое училище | M61: 2003 | N61: преподаватель в начальных классах | O61: ФГАОУ ВО "ТюмГУ" | P61: Сеть интернет в противодействии террористическим угрозам | Q61: 16 | R61: 2022 | AD61: изобразительное искусство | AE61: 6 | AF61: =AE61/18 -> 0.33333333 | AG61: 5,6,7 кл
A62: =COUNTA(H62:K62,L62:AH62,J63)-4 -> 9 | E62: =IF(K62="ВО",4,IF(K62="СПО",3,IF(K62="ВО (студент)",2,IF(K62="СПО (студент)",1,0)))) -> 0 | J62: По совместительству: | K62: ПП | L62: ООО "Межрегиональный учебный центр-Прогресс" | M62: 2024 | N62: учитель музыки | O62: ГАОУ ТО ДПО "ТОГИРРО" | P62: Организация воспитательной работы, направленной на профилактику и противодействие деструктивному поведению подростков и обучающейся молодежи | Q62: 72 | R62: 2023 | T62: Х | U62: Х | V62: Х
A63: =COUNTA(H63:K63,L63:AH63) -> 9 | D63: =IF(J63>0,"совместительство","-") -> совместительство | E63: =IF(K63="ВО",4,IF(K63="СПО",3,IF(K63="ВО (студент)",2,IF(K63="СПО (студент)",1,0)))) -> 0 | J63: Учитель | K63: ПП | L63: ООО "Московский институт ПП и ПКП" | M63: 2024 | N63: учитель физической культуры | O63: ГАОУ ТО ДПО "ТОГИРРО" | P63: Особенности реализации адаптированных основаных образовательных программ для обучающихся с ОВЗ | Q63: 16 | R63: 2024
A64: =COUNTA(H64:K64,L64:AH64) -> 4 | E64: =IF(K64="ВО",4,IF(K64="СПО",3,IF(K64="ВО (студент)",2,IF(K64="СПО (студент)",1,0)))) -> 0 | O64: ГАОУ ТО ДПО "ТОГИРРО" | P64: Социально-педагогические и социально-психологические технологии работы в образоватнльном учреждении | Q64: 36 | R64: 2024
A65: =COUNTA(H65:K65,L65:AH65) -> 4 | E65: =IF(K65="ВО",4,IF(K65="СПО",3,IF(K65="ВО (студент)",2,IF(K65="СПО (студент)",1,0)))) -> 0 | O65: ООО "Межрегиональный учебный центр-Прогресс" | P65: Педагогическое взаимодействие с детьми с ОВЗ как фактор их успешной социализации | Q65: 72 | R65: 2024
A66: =COUNTA(H66:K66,L66:AH66) -> 4 | E66: =IF(K66="ВО",4,IF(K66="СПО",3,IF(K66="ВО (студент)",2,IF(K66="СПО (студент)",1,0)))) -> 0 | O66: ГАОУ ТО ДПО "ТОГИРРО" | P66: Воспитательная деятельность в современной школе: сождержание, ресурсы, организация | Q66: 36 | R66: 2025
A67: =COUNTA(H67:K67,L67:AH67) -> 4 | E67: =IF(K67="ВО",4,IF(K67="СПО",3,IF(K67="ВО (студент)",2,IF(K67="СПО (студент)",1,0)))) -> 0 | O67: ФГАОУ ВО "Государственный университет просвещения" | P67: Обучение учебному предмету "Труд (технология)" в условиях внесения изменений в ФОП ООО | Q67: 72 | R67: 2024
A68: 0 | E68: =MAX(E60:E67) -> 3 | F68: =RIGHT(R68,4) -> 2025 | G68: =RIGHT(X68,4) -> - 0 | J68: ИТОГО: | K68: =IF(E68=4,"ВО",IF(E68=3,"СПО",IF(E68=2,"ВО (с)",IF(E68=1,"СПО (с)","-")))) -> СПО | L68: =COUNTA(L60:L67) -> 3 | M68: Х | N68: Х | O68: =COUNTA(O60:O67) -> 7 | P68: Х | Q68: =SUM(Q60:Q67) -> 320 | R68: =CONCATENATE("П.Г.П. - ",MAX(R60:R67)) -> П.Г.П. - 2025 | S68: =COUNTA(S60) -> 0 | T68: =T61 -> 0 | U68: Х | V68: Х | W68: =COUNTA(W60:W67) -> 0 | X68: =CONCATENATE("П.Г.П. - ",MAX(X60:X67)) -> П.Г.П. - 0 | Y68: =Y60 -> 45901 | Z68: =IF(Z60="","-",Z60) -> 19 | AA68: =IF(AA60="","-",AA60) -> 10 | AB68: =IF(AB60="","-",AB60) -> #REF! | AC68: =IF(AC60="","-",AC60) -> - | AD68: Х | AE68: =SUM(AE60:AE67) -> 6 | AF68: =SUM(AF60:AF67) -> 1.3333333 | AG68: Х | AH68: Х
A69: =COUNTA(H69:K69,L69:AH69)-7 -> 7 | B69: Учитель | C69: Работает | E69: =IF(K69="ВО",4,IF(K69="СПО",3,IF(K69="ВО (студент)",2,IF(K69="СПО (студент)",1,0)))) -> 0 | H69: 13 | I69: Искакова Ирина Николаевна | J69: Основная: | T69: Х | U69: Х | V69: Х | Y69: 44067 | Z69: 20 | AA69: 5 | AB69: =IF(Y69<1,"-",ROUND(YEARFRAC(Y69,#REF!,1),2)) -> #REF! | AD69: английский язык | AE69: 24 | AF69: =AE69/18 -> 1.3333333 | AG69: 2-4,6,7 кл
A70: =COUNTA(H70:K70,L70:AH70) -> 12 | E70: =IF(K70="ВО",4,IF(K70="СПО",3,IF(K70="ВО (студент)",2,IF(K70="СПО (студент)",1,0)))) -> 4 | J70: Учитель | K70: ВО | L70: Ишимский государственный педагогический институт им.П.П. Ершова | M70: 2002 | N70: Учитель филологии (иностранные языки) | O70: ГАОУ ТО ДПО "ТОГИРРО" | P70: Реализация требований обновленых ФГОС ООО в работе учителя" (учебный предмет "Иностраный язык") | Q70: 36 | R70: 2022 | T70: первая | U70: 2024 | V70: 28.11.2024 № 394-К
A71: =COUNTA(H71:K71,L71:AH71,J72)-4 -> 7 | E71: =IF(K71="ВО",4,IF(K71="СПО",3,IF(K71="ВО (студент)",2,IF(K71="СПО (студент)",1,0)))) -> 0 | K71: ПП | L71: ООО "Столичный центр образовательных технологий" | M71: 2023 | N71: учитель русского языка и литературы | O71: ООО"Московский институт профессиональной переподготовки и ПКП" | P71: Особенности подготовки к сдаче ОГЭ по русскому языку в условиях реализации ФГОС ООО | Q71: 180 | R71: 2024 | T71: Х | U71: Х | V71: Х
A72: =COUNTA(H72:K72,L72:AH72) -> 4 | D72: =IF(J72>0,"совмещение","-") -> - | E72: =IF(K72="ВО",4,IF(K72="СПО",3,IF(K72="ВО (студент)",2,IF(K72="СПО (студент)",1,0)))) -> 0 | O72: ГАОУ ТО ДПО "ТОГИРРО" | P72: Онлайн-стажировка "Современный урок глазами учителя" | Q72: 16 | R72: 2024
A73: =COUNTA(H73:K73,L73:AH73) -> 4 | E73: =IF(K73="ВО",4,IF(K73="СПО",3,IF(K73="ВО (студент)",2,IF(K73="СПО (студент)",1,0)))) -> 0 | O73: ГАОУ ТО ДПО "ТОГИРРО" | P73: Особенности реализации адаптированных основных образовательных программ для обучающхся с ОВЗ | Q73: 16 | R73: 2024
A74: =COUNTA(H74:K74,L74:AH74) -> 4 | E74: =IF(K74="ВО",4,IF(K74="СПО",3,IF(K74="ВО (студент)",2,IF(K74="СПО (студент)",1,0)))) -> 0 | O74: ГАОУ ТО ДПО "ТОГИРРО" | P74: Развитие профессиональных компетенций педагога с использованием технологии проектирования учебного занятия | Q74: 24 | R74: 2024
A75: 0 | E75: =MAX(E69:E74) -> 4 | F75: =RIGHT(R75,4) -> 2024 | G75: =RIGHT(X75,4) -> - 0 | J75: ИТОГО: | K75: =IF(E75=4,"ВО",IF(E75=3,"СПО",IF(E75=2,"ВО (с)",IF(E75=1,"СПО (с)","-")))) -> ВО | L75: =COUNTA(L69:L74) -> 2 | M75: Х | N75: Х | O75: =COUNTA(O69:O74) -> 5 | P75: Х | Q75: =SUM(Q69:Q74) -> 272 | R75: =CONCATENATE("П.Г.П. - ",MAX(R69:R74)) -> П.Г.П. - 2024 | S75: =COUNTA(S69) -> 0 | T75: =T70 -> первая | U75: Х | V75: Х | W75: =COUNTA(W69:W74) -> 0 | X75: =CONCATENATE("П.Г.П. - ",MAX(X69:X74)) -> П.Г.П. - 0 | Y75: =Y69 -> 44067 | Z75: =IF(Z69="","-",Z69) -> 20 | AA75: =IF(AA69="","-",AA69) -> 5 | AB75: =IF(AB69="","-",AB69) -> #REF! | AC75: =IF(AC69="","-",AC69) -> - | AD75: Х | AE75: =SUM(AE69:AE74) -> 24 | AF75: =SUM(AF69:AF74) -> 1.3333333 | AG75: Х | AH75: Х
A76: =COUNTA(H76:K76,L76:AH76)-7 -> 7 | B76: Учитель | C76: Работает | E76: =IF(K76="ВО",4,IF(K76="СПО",3,IF(K76="ВО (студент)",2,IF(K76="СПО (студент)",1,0)))) -> 0 | H76: 14 | I76: Кузнецова Наталья Васильевна | J76: Основная: | T76: Х | U76: Х | V76: Х | Y76: 43696 | Z76: 22 | AA76: 21 | AB76: =IF(Y76<1,"-",ROUND(YEARFRAC(Y76,#REF!,1),2)) -> #REF! | AD76: начальные классы | AE76: 21 | AF76: =AE76/18 -> 1.1666667 | AG76: 3Б
A77: =COUNTA(H77:K77,L77:AH77) -> 12 | E77: =IF(K77="ВО",4,IF(K77="СПО",3,IF(K77="ВО (студент)",2,IF(K77="СПО (студент)",1,0)))) -> 4 | J77: Учитель | K77: ВО | L77: ГОУ ВПО Курганский государственный университет | M77: 2003 | N77: Филолог. Преподаватель. | O77: ГАОУ ТО ДПО "ТОГИРРО" | P77: Реализация требований обновленных ФГОС начального общего образования в работе учителя | Q77: 36 | R77: 2022 | T77: первая | U77: 2024 | V77: 30.05.2024 № 157-К
A78: =COUNTA(H78:K78,L78:AH78,J79)-4 -> 7 | E78: =IF(K78="ВО",4,IF(K78="СПО",3,IF(K78="ВО (студент)",2,IF(K78="СПО (студент)",1,0)))) -> 0 | K78: ПП | L78: ООО "Межрегиональный учебный центр - ПРОГРЕСС" | M78: 2019 | N78: Учитель начальных классов | O78: ГАОУ ТО ДПО "ТОГИРРО" | P78: Формирование функциональной грамотности школьников: методика обучения, специфика заданий | Q78: 36 | R78: 2024 | T78: Х | U78: Х | V78: Х
A79: =COUNTA(H79:K79,L79:AH79) -> 4 | D79: =IF(J79>0,"совместительство","-") -> - | E79: =IF(K79="ВО",4,IF(K79="СПО",3,IF(K79="ВО (студент)",2,IF(K79="СПО (студент)",1,0)))) -> 0 | O79: ГАОУ ТО ДПО "ТОГИРРО" | P79: Формирование функциональной грамотности школьников: методика обучения, специфика заданий | Q79: 40 | R79: 2025
A80: 0 | E80: =MAX(E76:E79) -> 4 | F80: =RIGHT(R80,4) -> 2025 | G80: =RIGHT(X80,4) -> - 0 | J80: ИТОГО: | K80: =IF(E80=4,"ВО",IF(E80=3,"СПО",IF(E80=2,"ВО (с)",IF(E80=1,"СПО (с)","-")))) -> ВО | L80: =COUNTA(L76:L79) -> 2 | M80: Х | N80: Х | O80: =COUNTA(O76:O79) -> 3 | P80: Х | Q80: =SUM(Q76:Q79) -> 112 | R80: =CONCATENATE("П.Г.П. - ",MAX(R76:R79)) -> П.Г.П. - 2025 | S80: =COUNTA(S76) -> 0 | T80: =T77 -> первая | U80: Х | V80: Х | W80: =COUNTA(W76:W79) -> 0 | X80: =CONCATENATE("П.Г.П. - ",MAX(X76:X79)) -> П.Г.П. - 0 | Y80: =Y76 -> 43696 | Z80: =IF(Z76="","-",Z76) -> 22 | AA80: =IF(AA76="","-",AA76) -> 21 | AB80: =IF(AB76="","-",AB76) -> #REF! | AC80: =IF(AC76="","-",AC76) -> - | AD80: Х | AE80: =SUM(AE76:AE79) -> 21 | AF80: =SUM(AF76:AF79) -> 1.1666667 | AG80: Х | AH80: Х
A81: =COUNTA(H81:K81,L81:AH81)-7 -> 7 | B81: Учитель | C81: Работает | E81: =IF(K81="ВО",4,IF(K81="СПО",3,IF(K81="ВО (студент)",2,IF(K81="СПО (студент)",1,0)))) -> 0 | H81: 15 | I81: Лыкова Наталья Михайловна | J81: Основная: | T81: Х | U81: Х | V81: Х | Y81: 45889 | Z81: 36 | AA81: 30 | AB81: 5.8 | AD81: русский язык | AE81: 13 | AF81: =AE81/18 -> 0.72222222 | AG81: 8А, 9,10,11 кл
A82: =COUNTA(H82:K82,L82:AH82) -> 12 | E82: =IF(K82="ВО",4,IF(K82="СПО",3,IF(K82="ВО (студент)",2,IF(K82="СПО (студент)",1,0)))) -> 4 | J82: Учитель | K82: ВО | L82: Ленинабадский государственный пединститут им.С.М. Кирова | M82: 1992 | N82: Русский язык и литература | T82: первая | U82: 2022 | V82: 30.06.2022 №203-К | AD82: литература | AE82: 14 | AF82: =AE82/18 -> 0.77777778 | AG82: 8А, 9,10,11 кл
A83: =COUNTA(H83:K83,L83:AH83,J84)-4 -> 3 | E83: =IF(K83="ВО",4,IF(K83="СПО",3,IF(K83="ВО (студент)",2,IF(K83="СПО (студент)",1,0)))) -> 0 | T83: Х | U83: Х | V83: Х | AD83: ЭК "Пишем сочинение" | AE83: 2 | AF83: =AE83/18 -> 0.11111111 | AG83: 10,11 кл
A84: =COUNTA(H84:K84,L84:AH84) -> 4 | D84: =IF(J84>0,"совмещение","-") -> - | E84: =IF(K84="ВО",4,IF(K84="СПО",3,IF(K84="ВО (студент)",2,IF(K84="СПО (студент)",1,0)))) -> 0 | AD84: ЭК "Комплексный анализ текста" | AE84: 3 | AF84: =AE84/18 -> 0.16666667 | AG84: 8А,9 кл
A85: 0 | E85: =MAX(E81:E84) -> 4 | F85: =RIGHT(R85,4) -> - 0 | G85: =RIGHT(X85,4) -> - 0 | J85: ИТОГО: | K85: =IF(E85=4,"ВО",IF(E85=3,"СПО",IF(E85=2,"ВО (с)",IF(E85=1,"СПО (с)","-")))) -> ВО | L85: =COUNTA(L81:L84) -> 1 | M85: Х | N85: Х | O85: =COUNTA(O81:O84) -> 0 | P85: Х | Q85: =SUM(Q81:Q84) -> 0 | R85: =CONCATENATE("П.Г.П. - ",MAX(R81:R84)) -> П.Г.П. - 0 | S85: =COUNTA(S81) -> 0 | T85: =T82 -> первая | U85: Х | V85: Х | W85: =COUNTA(W81:W84) -> 0 | X85: =CONCATENATE("П.Г.П. - ",MAX(X81:X84)) -> П.Г.П. - 0 | Y85: =Y81 -> 45889 | Z85: =IF(Z81="","-",Z81) -> 36 | AA85: =IF(AA81="","-",AA81) -> 30 | AB85: =IF(AB81="","-",AB81) -> 5.8 | AC85: =IF(AC81="","-",AC81) -> - | AD85: Х | AE85: =SUM(AE81:AE84) -> 32 | AF85: =SUM(AF81:AF84) -> 1.7777778 | AG85: Х | AH85: Х
A86: =COUNTA(H86:K86,L86:AH86)-7 -> 7 | B86: Учитель | C86: Работает | E86: =IF(K86="ВО",4,IF(K86="СПО",3,IF(K86="ВО (студент)",2,IF(K86="СПО (студент)",1,0)))) -> 0 | H86: 16 | I86: Мартемьянова Дарья Юрьевна | J86: Основная: | T86: Х | U86: Х | V86: Х | Y86: 45531 | Z86: 7 | AA86: 7 | AB86: =IF(Y86<1,"-",ROUND(YEARFRAC(Y86,#REF!,1),2)) -> #REF! | AD86: начальные классы | AE86: 21 | AF86: =AE86/18 -> 1.1666667 | AG86: 2А
A87: =COUNTA(H87:K87,L87:AH87) -> 12 | E87: =IF(K87="ВО",4,IF(K87="СПО",3,IF(K87="ВО (студент)",2,IF(K87="СПО (студент)",1,0)))) -> 4 | J87: Учитель | K87: ВО | L87: ФГБОУ ВО "Уральский государственный педагогический университет" | M87: 2017 | N87: Педагогическое образование | O87: ООО "Инфоурок" | P87: Особенности введения и реализации обновленного ФГОС НОО | Q87: 72 | R87: 2022 | T87: первая | U87: 2024 | V87: 31.10.2024 №357-К
A88: =COUNTA(H88:K88,L88:AH88,J89)-4 -> 3 | E88: =IF(K88="ВО",4,IF(K88="СПО",3,IF(K88="ВО (студент)",2,IF(K88="СПО (студент)",1,0)))) -> 0 | O88: ООО Центр инновационного образования и воспитания | P88: Обработка персональных данных в образовательной организации | Q88: 36 | R88: 2022 | T88: Х | U88: Х | V88: Х
A89: =COUNTA(H89:K89,L89:AH89) -> 4 | D89: =IF(J89>0,"совмещение","-") -> - | E89: =IF(K89="ВО",4,IF(K89="СПО",3,IF(K89="ВО (студент)",2,IF(K89="СПО (студент)",1,0)))) -> 0 | O89: ФГБУВО «Уральский государственный университет»; | P89: Формирование мотивации к обучению у школьников | Q89: 24 | R89: 2022
A90: =COUNTA(H90:K90,L90:AH90) -> 4 | E90: =IF(K90="ВО",4,IF(K90="СПО",3,IF(K90="ВО (студент)",2,IF(K90="СПО (студент)",1,0)))) -> 0 | O90: ФГБУВО «Уральский государственный университет»; | P90: Методика проведения природоведческих экскурсий в начальных классах | Q90: 13 | R90: 2023
A91: =COUNTA(H91:K91,L91:AH91) -> 4 | E91: =IF(K91="ВО",4,IF(K91="СПО",3,IF(K91="ВО (студент)",2,IF(K91="СПО (студент)",1,0)))) -> 0 | O91: ООО «Центр развития педагогики» | P91: Адаптация первоклассников к обучению в школе | Q91: 16 | R91: 2024
A92: 0 | E92: =MAX(E86:E91) -> 4 | F92: =RIGHT(R92,4) -> 2024 | G92: =RIGHT(X92,4) -> - 0 | J92: ИТОГО: | K92: =IF(E92=4,"ВО",IF(E92=3,"СПО",IF(E92=2,"ВО (с)",IF(E92=1,"СПО (с)","-")))) -> ВО | L92: =COUNTA(L86:L91) -> 1 | M92: Х | N92: Х | O92: =COUNTA(O86:O91) -> 5 | P92: Х | Q92: =SUM(Q86:Q91) -> 161 | R92: =CONCATENATE("П.Г.П. - ",MAX(R86:R91)) -> П.Г.П. - 2024 | S92: =COUNTA(S86) -> 0 | T92: =T87 -> первая | U92: Х | V92: Х | W92: =COUNTA(W86:W91) -> 0 | X92: =CONCATENATE("П.Г.П. - ",MAX(X86:X91)) -> П.Г.П. - 0 | Y92: =Y86 -> 45531 | Z92: =IF(Z86="","-",Z86) -> 7 | AA92: =IF(AA86="","-",AA86) -> 7 | AB92: =IF(AB86="","-",AB86) -> #REF! | AC92: =IF(AC86="","-",AC86) -> - | AD92: Х | AE92: =SUM(AE86:AE91) -> 21 | AF92: =SUM(AF86:AF91) -> 1.1666667 | AG92: Х | AH92: Х
A93: =COUNTA(H93:K93,L93:AH93)-7 -> 6 | B93: Учитель | C93: Работает | E93: =IF(K93="ВО",4,IF(K93="СПО",3,IF(K93="ВО (студент)",2,IF(K93="СПО (студент)",1,0)))) -> 0 | H93: 17 | I93: Моисеенко Людмила Петровна | J93: Основная: | T93: Х | U93: Х | V93: Х | Y93: 37347 | Z93: 47 | AA93: 47 | AB93: =IF(Y93<1,"-",ROUND(YEARFRAC(Y93,#REF!,1),2)) -> #REF! | AD93: русский язык | AE93: 10 | AF93: =AE93/18 -> 0.55555556
A94: =COUNTA(H94:K94,L94:AH94) -> 17 | E94: =IF(K94="ВО",4,IF(K94="СПО",3,IF(K94="ВО (студент)",2,IF(K94="СПО (студент)",1,0)))) -> 3 | J94: Учитель | K94: СПО | L94: Тюменское педагогическое училище | M94: 1978 | N94: учитель начальных классов | O94: ГАОУ ТО ДПО "ТОГИРРО" | P94: Реализация требований обновленных ФГОС начального общего образования в работе учителя | Q94: 36 | R94: 2022 | T94: первая | U94: 2024 | V94: 26.12.2024 № 421-К | W94: Почетная грамота ДОиН ТО | X94: 2021 | AD94: литература | AE94: 6 | AF94: =AE94/18 -> 0.33333333
A95: =COUNTA(H95:K95,L95:AH95,#REF!)-4 -> 5 | E95: =IF(K95="ВО",4,IF(K95="СПО",3,IF(K95="ВО (студент)",2,IF(K95="СПО (студент)",1,0)))) -> 0 | T95: Х | U95: Х | V95: Х | W95: Почетная грамота УО АТМР | X95: 2010 | AD95: ЭК "Комплексный анализ текста" | AE95: 2 | AF95: =AE95/18 -> 0.11111111
A96: =COUNTA(H96:K96,L96:AH96,J97)-4 -> 3 | E96: =IF(K96="ВО",4,IF(K96="СПО",3,IF(K96="ВО (студент)",2,IF(K96="СПО (студент)",1,0)))) -> 0 | J96: По совместительству: | T96: Х | U96: Х | V96: Х | AD96: Педагог-библиотекарь | AF96: 0.5
A97: =COUNTA(H97:K97,L97:AH97) -> 1 | D97: =IF(J97>0,"совместительство","-") -> совместительство | E97: =IF(K97="ВО",4,IF(K97="СПО",3,IF(K97="ВО (студент)",2,IF(K97="СПО (студент)",1,0)))) -> 0 | J97: Педагог-библиотекарь
A98: 0 | E98: =MAX(E93:E97) -> 3 | F98: =RIGHT(R98,4) -> 2022 | G98: =RIGHT(X98,4) -> 2021 | J98: ИТОГО: | K98: =IF(E98=4,"ВО",IF(E98=3,"СПО",IF(E98=2,"ВО (с)",IF(E98=1,"СПО (с)","-")))) -> СПО | L98: =COUNTA(L93:L97) -> 1 | M98: Х | N98: Х | O98: =COUNTA(O93:O97) -> 1 | P98: Х | Q98: =SUM(Q93:Q97) -> 36 | R98: =CONCATENATE("П.Г.П. - ",MAX(R93:R97)) -> П.Г.П. - 2022 | S98: =COUNTA(S93) -> 0 | T98: =T94 -> первая | U98: Х | V98: Х | W98: =COUNTA(W93:W97) -> 2 | X98: =CONCATENATE("П.Г.П. - ",MAX(X93:X97)) -> П.Г.П. - 2021 | Y98: =Y93 -> 37347 | Z98: =IF(Z93="","-",Z93) -> 47 | AA98: =IF(AA93="","-",AA93) -> 47 | AB98: =IF(AB93="","-",AB93) -> #REF! | AC98: =IF(AC93="","-",AC93) -> - | AD98: Х | AE98: =SUM(AE93:AE97) -> 18 | AF98: =SUM(AF93:AF97) -> 1.5 | AG98: Х | AH98: Х
A99: =COUNTA(H99:K99,L99:AH99)-7 -> 7 | B99: Учитель | C99: Работает | E99: =IF(K99="ВО",4,IF(K99="СПО",3,IF(K99="ВО (студент)",2,IF(K99="СПО (студент)",1,0)))) -> 0 | H99: 18 | I99: Огнева Юлия Валерьевна | J99: Основная: | T99: Х | U99: Х | V99: Х | Y99: 44795 | Z99: 11 | AA99: 10 | AB99: =IF(Y99<1,"-",ROUND(YEARFRAC(Y99,#REF!,1),2)) -> #REF! | AD99: начальные классы | AE99: 21 | AF99: =AE99/18 -> 1.1666667 | AG99: 4Б
A100: =COUNTA(H100:K100,L100:AH100) -> 9 | E100: =IF(K100="ВО",4,IF(K100="СПО",3,IF(K100="ВО (студент)",2,IF(K100="СПО (студент)",1,0)))) -> 4 | J100: Учитель | K100: ВО | L100: ГОУ ВПО Шадринский государственный педагогический институт | M100: 2008 | N100: Социальный педагог, учитель права | O100: ГАОУ ТО ДПО "ТОГИРРО" | P100: Развитие профессиональны компетенций молодых педагогов | Q100: 24 | R100: 2023
A101: =COUNTA(H101:K101,L101:AH101,J102)-4 -> 8 | E101: =IF(K101="ВО",4,IF(K101="СПО",3,IF(K101="ВО (студент)",2,IF(K101="СПО (студент)",1,0)))) -> 0 | J101: По совмещению: | K101: ПП | L101: ООО "Центр повышения квалификации и переподготовки "Луч знаний" | M101: 2022 | N101: Учитель начальных классов | O101: ГАОУ ТО ДПО "ТОГИРРО" | P101: Формирование функциональной грамотности школьников: методика обучения, специфика заданий | Q101: 36 | R101: 2024 | T101: Х | U101: Х | V101: Х
...

Sheet Подстановка
A1: Категория | B1: Статус | C1: Должность | D1: Уровень образования | E1: Год | F1: Ученная степень | G1: Категория | H1: Вид награды | I1: Предмет
A2: АУП | B2: Работает | C2: Директор | D2: СПО | E2: 1960 | F2: д-р пед. наук | G2: нет | H2: Заслуженный учитель РФ | I2: начальные классы
A3: Учитель | B3: Внеш. совмест. | C3: Заместитель директора | D3: ВО | E3: 1961 | F3: д-р ист. наук | G3: соответствие | H3: Отличник просвещения РФ | I3: русский язык
A4: Иные ПР | B4: Декр. отп. | C4: Руководитель ЦО "Точка роста" | D4: ПП | E4: 1962 | F4: д-р психол. наук | G4: первая | H4: Отличник просвещения СССР | I4: литература
A5: ЦО ТР | B5: Длит. отп. (до 1 г.) | C5: Учитель | D5: СПО (студент) | E5: 1963 | F5: д-р социол. наук | G5: высшая | H5: Медаль К.Д. Ушинского | I5: русский язык и литература
C6: Учитель-логопед | D6: ВО (студент) | E6: 1964 | F6: д-р техн. наук | G6: педагог-методист | H6: Медаль Л.С. Выготского | I6: родной язык
C7: Учитель-дефектолог | E7: 1965 | F7: д-р физ.-мат. наук | G7: педагог-наставник | H7: Почетный работник сферы образования РФ | I7: родная литература
C8: Социальный педагог | E8: 1966 | F8: д-р филол. наук | H8: Почетный работник сферы воспитания детей и молодежи РФ | I8: родной язык и литература
C9: Педагог дополнительного образования | E9: 1967 | F9: д-р филос. наук | H9: Почетный наставник | I9: татарская литература
C10: Педагог-психолог | E10: 1968 | F10: д-р экон. наук | H10: Знак отличия Минпросвещения РФ "За верность профессии" | I10: татарский язык
C11: Воспитатель | E11: 1969 | F11: канд. пед. наук | H11: Знак отличия Минпросвещения РФ "Молодость и профессионализм" | I11: татарский язык и литература
C12: Тьютер | E12: 1970 | F12: канд. ист. наук | H12: Почетная грамота Минпросвещения РФ | I12: история
C13: Советник директора по воспитанию и взаимодействию с ДОО | E13: 1971 | F13: канд. психол. наук | H13: Почетная грамота Губернатора Тюменской области | I13: обществознание
C14: Педагог-библиотекарь | E14: 1972 | F14: канд. социол. наук | H14: Благодарность Губернатора Тюменской области | I14: история и обществознание
C15: Педагог-организатор | E15: 1973 | F15: канд. техн. наук | H15: Почетная грамота Тюменской областной Думы | I15: экономика
E16: 1974 | F16: канд. физ.-мат. наук | H16: Почетный нагрудный знак Тюменской областной Думы | I16: право
E17: 1975 | F17: канд. филол. наук | H17: Благодарственное письмо Тюменской областной Думы | I17: информатика
E18: 1976 | F18: канд. филос. наук | H18: Знак отличия Тюменской области "Почетный наставник" | I18: физика
E19: 1977 | F19: канд. экон. наук | H19: Почетный работник науки и образования Тюменской области | I19: математика
E20: 1978 | F20: д-р архитектуры | H20: Благодарственное письмо Правительства Тюменской области | I20: алгебра
E21: 1979 | F21: д-р биол. наук | H21: Почетная грамота ДОиН ТО | I21: алгебра и начало анализа
E22: 1980 | F22: д-р ветеринар. наук | H22: Благодарность ДОиН ТО | I22: геометрия
E23: 1981 | F23: д-р воен. наук | H23: Звание "Почетный гражданин ТМР" | I23: вероятность и статистика
E24: 1982 | F24: д-р геогр. наук | H24: Почетная грамота Главы Тюменского района | I24: химия
E25: 1983 | F25: д-р геол.-минерал. наук | H25: Благодарственное письмо Главы Тюменского района | I25: география
E26: 1984 | F26: д-р искусствоведения | H26: Почетная грамота Думы ТМР | I26: биология
E27: 1985 | F27: д-р культурологии | H27: Благодарственное письмо Думы ТМР | I27: иностранный язык
... E39: 1997 | F39: канд. геол.-минерал. наук | H39: Почетная грамота министерства образования и науки | I39: практикум "Название"
E40: 1998 | F40: канд. искусствоведения | I40: индивидуальный проект
E41: 1999 | F41: канд. культурологии | I41: коррекционные занятия
E42: 2000 | F42: канд. мед. наук | I42: СИПР
E43: 2001 | F43: канд. полит. наук | I43: домашнее обучение
E44: 2002 | F44: канд. с.-х. наук | I44: воспитатель ГПД
E45: 2003 | F45: канд. фармацевт. наук | I45: Дополнительное образование
E46: 2004 | F46: канд. хим. наук | I46: Директор
E47: 2005 | F47: канд. юрид. наук | I47: Заместитель директора
E48: 2006 | I48: Руководитель ЦО "Точка роста"
E49: 2007 | I49: Учитель-логопед
E50: 2008 | I50: Учитель-дефектолог
E51: 2009 | I51: Социальный педагог
E52: 2010 | I52: Педагог-психолог
E53: 2011 | I53: Воспитатель
E54: 2012 | I54: Тьютер
E55: 2013 | I55: Советник директора по воспитанию и взаимодействию с ДОО
E56: 2014 | I56: Педагог-библиотекарь
E57: 2015 | I57: Педагог-организатор
E58: 2016 | I58: Музыка
E59: 2017 | I59: Системный администратор
E60: 2018
E61: 2019
E62: 2020
E63: 2021
E64: 2022
E65: 2023
E66: 2024
E67: 2025
E68: 2026
E69: 2027
E70: 2028
E71: 2029
... E77: 2035

Sheet Технический лист
A1: Итоги по графе "6" Образование | B1: Занято ставок | C1: Учебная нагрузка (в часах) | D1: Категория | E1: Полученные награды
A2: =Список!#REF! -> #REF! | B2: =Список!#REF! -> #REF! | C2: =Список!#REF! -> #REF! | D2: =Список!#REF! -> #REF! | E2: =Список!#REF! -> #REF!
A3: =Список!$K$10 -> ВО | B3: =Список!$AF$10 -> 1 | C3: =Список!$AE$10 -> 0 | D3: =Список!$T$10 -> 0 | E3: =Список!#REF! -> #REF!
A4: =Список!$K$15 -> ВО | B4: =Список!$AF$15 -> 2.5 | C4: =Список!$AE$15 -> 36 | D4: =Список!$T$15 -> первая | E4: =Список!#REF! -> #REF!
A5: =Список!$K$20 -> ВО | B5: =Список!$AF$20 -> 1.6666667 | C5: =Список!$AE$20 -> 21 | D5: =Список!$T$20 -> высшая | E5: =Список!#REF! -> #REF!
A6: =Список!$K$29 -> ВО | B6: =Список!$AF$29 -> 3.2222222 | C6: =Список!$AE$29 -> 49 | D6: =Список!$T$29 -> высшая | E6: =Список!#REF! -> #REF!
A7: =Список!$K$33 -> ВО | B7: =Список!$AF$33 -> 1.8888889 | C7: =Список!$AE$33 -> 34 | D7: =Список!$T$33 -> первая | E7: =Список!#REF! -> #REF!
A8: =Список!$K$37 -> ВО | B8: =Список!$AF$37 -> 1.1666667 | C8: =Список!$AE$37 -> 21 | D8: =Список!$T$37 -> высшая | E8: =Список!#REF! -> #REF!
A9: =Список!$K$41 -> ВО | B9: =Список!$AF$41 -> 2.2222222 | C9: =Список!$AE$41 -> 40 | D9: =Список!$T$41 -> 0 | E9: =Список!#REF! -> #REF!
A10: =Список!$K$46 -> ВО | B10: =Список!$AF$46 -> 1.1666667 | C10: =Список!$AE$46 -> 12 | D10: =Список!$T$46 -> первая | E10: =Список!#REF! -> #REF!
A11: =Список!$K$53 -> ВО | B11: =Список!$AF$53 -> 1 | C11: =Список!$AE$53 -> 0 | D11: =Список!$T$53 -> первая | E11: =Список!#REF! -> #REF!
A12: =Список!$K$59 -> СПО | B12: =Список!$AF$59 -> 1.4444444 | C12: =Список!$AE$59 -> 8 | D12: =Список!$T$59 -> 0 | E12: =Список!#REF! -> #REF!
A13: =Список!$K$68 -> СПО | B13: =Список!$AF$68 -> 1.3333333 | C13: =Список!$AE$68 -> 6 | D13: =Список!$T$68 -> 0 | E13: =Список!#REF! -> #REF!
A14: =Список!$K$75 -> ВО | B14: =Список!$AF$75 -> 1.3333333 | C14: =Список!$AE$75 -> 24 | D14: =Список!$T$75 -> первая | E14: =Список!#REF! -> #REF!
A15: =Список!$K$80 -> ВО | B15: =Список!$AF$80 -> 1.1666667 | C15: =Список!$AE$80 -> 21 | D15: =Список!$T$80 -> первая | E15: =Список!#REF! -> #REF!
A16: =Список!$K$85 -> ВО | B16: =Список!$AF$85 -> 1.7777778 | C16: =Список!$AE$85 -> 32 | D16: =Список!$T$85 -> первая | E16: =Список!#REF! -> #REF!
A17: =Список!$K$92 -> ВО | B17: =Список!$AF$92 -> 1.1666667 | C17: =Список!$AE$92 -> 21 | D17: =Список!$T$92 -> первая | E17: =Список!#REF! -> #REF!
A18: =Список!$K$98 -> СПО | B18: =Список!$AF$98 -> 1.5 | C18: =Список!$AE$98 -> 18 | D18: =Список!$T$98 -> первая | E18: =Список!W8 -> 0
A19: =Список!$K$106 -> ВО | B19: =Список!$AF$106 -> 1.1666667 | C19: =Список!$AE$106 -> 21 | D19: =Список!$T$106 -> 0 | E19: =Список!W9 -> 0
A20: =Список!$K$109 -> ВО | B20: =Список!$AF$109 -> 1.3333333 | C20: =Список!$AE$109 -> 24 | D20: =Список!$T$109 -> 0 | E20: =Список!#REF! -> #REF!
A21: =Список!$K$113 -> ВО | B21: =Список!$AF$113 -> 0 | C21: =Список!$AE$113 -> 0 | D21: =Список!$T$113 -> 0 | E21: =Список!#REF! -> #REF!
A22: =Список!$K$119 -> ВО | B22: =Список!$AF$119 -> 1 | C22: =Список!$AE$119 -> 0 | D22: =Список!$T$119 -> высшая | E22: =Список!#REF! -> #REF!
A23: =Список!$K$130 -> ВО | B23: =Список!$AF$130 -> 0 | C23: =Список!$AE$130 -> 0 | D23: =Список!$T$130 -> 0 | E23: =Список!#REF! -> #REF!
A24: =Список!$K$134 -> ВО | B24: =Список!$AF$134 -> 1.1666667 | C24: =Список!$AE$134 -> 21 | D24: =Список!$T$134 -> первая | E24: =Список!#REF! -> #REF!
A25: =Список!$K$140 -> ВО | B25: =Список!$AF$140 -> 1.4444444 | C25: =Список!$AE$140 -> 26 | D25: =Список!$T$140 -> высшая | E25: =Список!#REF! -> #REF!
A26: =Список!$K$147 -> ВО | B26: =Список!$AF$147 -> 2.1666667 | C26: =Список!$AE$147 -> 30 | D26: =Список!$T$147 -> 0 | E26: =Список!#REF! -> #REF!
A27: =Список!$K$153 -> СПО | B27: =Список!$AF$153 -> 1.6666667 | C27: =Список!$AE$153 -> 21 | D27: =Список!$T$153 -> 0 | E27: =Список!#REF! -> #REF!
A28: =Список!$K$159 -> ВО | B28: =Список!$AF$159 -> 2.5555556 | C28: =Список!$AE$159 -> 46 | D28: =Список!$T$159 -> высшая | E28: =Список!#REF! -> #REF!
A29: =Список!$K$163 -> ВО | B29: =Список!$AF$163 -> 1.3888889 | C29: =Список!$AE$163 -> 25 | D29: =Список!$T$163 -> высшая | E29: =Список!#REF! -> #REF!
A30: =Список!$K$166 -> СПО | B30: =Список!$AF$166 -> 1.1666667 | C30: =Список!$AE$166 -> 21 | D30: =Список!$T$166 -> первая | E30: =Список!#REF! -> #REF!
A31: =Список!$K$183 -> - | B31: =Список!$AF$183 -> 0 | C31: =Список!$AE$183 -> 0 | D31: =Список!$T$183 -> 0 | E31: =Список!#REF! -> #REF!
A32: =Список!$K$200 -> - | B32: =Список!$AF$200 -> 0 | C32: =Список!$AE$200 -> 0 | D32: =Список!$T$200 -> 0 | E32: =Список!#REF! -> #REF!
A33: =Список!$K$217 -> - | B33: =Список!$AF$217 -> 0 | C33: =Список!$AE$217 -> 0 | D33: =Список!$T$217 -> 0 | E33: =Список!#REF! -> #REF!
A34: =Список!$K$234 -> - | B34: =Список!$AF$234 -> 0 | C34: =Список!$AE$234 -> 0 | D34: =Список!$T$234 -> 0 | E34: =Список!W11 -> 0
A35: =Список!$K$251 -> - | B35: =Список!$AF$251 -> 0 | C35: =Список!$AE$251 -> 0 | D35: =Список!$T$251 -> 0 | E35: =Список!W12 -> Благодарственное письмо УО АТМО
A36: =Список!$K$268 -> - | B36: =Список!$AF$268 -> 0 | C36: =Список!$AE$268 -> 0 | D36: =Список!$T$268 -> 0 | E36: =Список!W13 -> 0
A37: =Список!$K$285 -> - | B37: =Список!$AF$285 -> 0 | C37: =Список!$AE$285 -> 0 | D37: =Список!$T$285 -> 0 | E37: =Список!W14 -> 0
A38: =Список!$K$302 -> - | B38: =Список!$AF$302 -> 0 | C38: =Список!$AE$302 -> 0 | D38: =Список!$T$302 -> 0 | E38: =Список!#REF! -> #REF!
A39: =Список!$K$319 -> - | B39: =Список!$AF$319 -> 0 | C39: =Список!$AE$319 -> 0 | D39: =Список!$T$319 -> 0 | E39: =Список!#REF! -> #REF!
A40: =Список!$K$336 -> - | B40: =Список!$AF$336 -> 0 | C40: =Список!$AE$336 -> 0 | D40: =Список!$T$336 -> 0 | E40: =Список!#REF! -> #REF!
A41: =Список!$K$353 -> - | B41: =Список!$AF$353 -> 0 | C41: =Список!$AE$353 -> 0 | D41: =Список!$T$353 -> 0 | E41: =Список!#REF! -> #REF!
A42: =Список!$K$370 -> - | B42: =Список!$AF$370 -> 0 | C42: =Список!$AE$370 -> 0 | D42: =Список!$T$370 -> 0 | E42: =Список!#REF! -> #REF!
A43: =Список!$K$387 -> - | B43: =Список!$AF$387 -> 0 | C43: =Список!$AE$387 -> 0 | D43: =Список!$T$387 -> 0 | E43: =Список!#REF! -> #REF!
A44: =Список!$K$404 -> - | B44: =Список!$AF$404 -> 0 | C44: =Список!$AE$404 -> 0 | D44: =Список!$T$404 -> 0 | E44: =Список!#REF! -> #REF!
A45: =Список!$K$421 -> - | B45: =Список!$AF$421 -> 0 | C45: =Список!$AE$421 -> 0 | D45: =Список!$T$421 -> 0 | E45: =Список!#REF! -> #REF!
A46: =Список!$K$438 -> - | B46: =Список!$AF$438 -> 0 | C46: =Список!$AE$438 -> 0 | D46: =Список!$T$438 -> 0 | E46: =Список!#REF! -> #REF!
A47: =Список!$K$455 -> - | B47: =Список!$AF$455 -> 0 | C47: =Список!$AE$455 -> 0 | D47: =Список!$T$455 -> 0 | E47: =Список!#REF! -> #REF!
A48: =Список!$K$472 -> - | B48: =Список!$AF$472 -> 0 | C48: =Список!$AE$472 -> 0 | D48: =Список!$T$472 -> 0 | E48: =Список!#REF! -> #REF!
A49: =Список!$K$489 -> - | B49: =Список!$AF$489 -> 0 | C49: =Список!$AE$489 -> 0 | D49: =Список!$T$489 -> 0 | E49: =Список!#REF! -> #REF!
A50: =Список!$K$506 -> - | B50: =Список!$AF$506 -> 0 | C50: =Список!$AE$506 -> 0 | D50: =Список!$T$506 -> 0 | E50: =Список!W16 -> 0
A51: =Список!$K$523 -> - | B51: =Список!$AF$523 -> 0 | C51: =Список!$AE$523 -> 0 | D51: =Список!$T$523 -> 0 | E51: =Список!W17 -> Почетная грамота УО АТМР
A52: =Список!$K$540 -> - | B52: =Список!$AF$540 -> 0 | C52: =Список!$AE$540 -> 0 | D52: =Список!$T$540 -> 0 | E52: =Список!W18 -> 0
A53: =Список!$K$557 -> - | B53: =Список!$AF$557 -> 0 | C53: =Список!$AE$557 -> 0 | D53: =Список!$T$557 -> 0 | E53: =Список!W19 -> 0
A54: =Список!$K$574 -> - | B54: =Список!$AF$574 -> 0 | C54: =Список!$AE$574 -> 0 | D54: =Список!$T$574 -> 0 | E54: =Список!#REF! -> #REF!
A55: =Список!$K$591 -> - | B55: =Список!$AF$591 -> 0 | C55: =Список!$AE$591 -> 0 | D55: =Список!$T$591 -> 0 | E55: =Список!#REF! -> #REF!
A56: =Список!$K$608 -> - | B56: =Список!$AF$608 -> 0 | C56: =Список!$AE$608 -> 0 | D56: =Список!$T$608 -> 0 | E56: =Список!#REF! -> #REF!
A57: =Список!$K$625 -> - | B57: =Список!$AF$625 -> 0 | C57: =Список!$AE$625 -> 0 | D57: =Список!$T$625 -> 0 | E57: =Список!#REF! -> #REF!
A58: =Список!$K$642 -> - | B58: =Список!$AF$642 -> 0 | C58: =Список!$AE$642 -> 0 | D58: =Список!$T$642 -> 0 | E58: =Список!#REF! -> #REF!
A59: =Список!$K$659 -> - | B59: =Список!$AF$659 -> 0 | C59: =Список!$AE$659 -> 0 | D59: =Список!$T$659 -> 0 | E59: =Список!#REF! -> #REF!
A60: =Список!$K$676 -> - | B60: =Список!$AF$676 -> 0 | C60: =Список!$AE$676 -> 0 | D60: =Список!$T$676 -> 0 | E60: =Список!#REF! -> #REF!
A61: =Список!$K$693 -> - | B61: =Список!$AF$693 -> 0 | C61: =Список!$AE$693 -> 0 | D61: =Список!$T$693 -> 0 | E61: =Список!#REF! -> #REF!
A62: =Список!$K$710 -> - | B62: =Список!$AF$710 -> 0 | C62: =Список!$AE$710 -> 0 | D62: =Список!$T$710 -> 0 | E62: =Список!#REF! -> #REF!
A63: =Список!$K$727 -> - | B63: =Список!$AF$727 -> 0 | C63: =Список!$AE$727 -> 0 | D63: =Список!$T$727 -> 0 | E63: =Список!#REF! -> #REF!
A64: =Список!$K$744 -> - | B64: =Список!$AF$744 -> 0 | C64: =Список!$AE$744 -> 0 | D64: =Список!$T$744 -> 0 | E64: =Список!#REF! -> #REF!
A65: =Список!$K$761 -> - | B65: =Список!$AF$761 -> 0 | C65: =Список!$AE$761 -> 0 | D65: =Список!$T$761 -> 0 | E65: =Список!#REF! -> #REF!
A66: =Список!$K$778 -> - | B66: =Список!$AF$778 -> 0 | C66: =Список!$AE$778 -> 0 | D66: =Список!$T$778 -> 0 | E66: =Список!W21 -> 0
A67: =Список!$K$795 -> - | B67: =Список!$AF$795 -> 0 | C67: =Список!$AE$795 -> 0 | D67: =Список!$T$795 -> 0 | E67: =Список!W22 -> Благодарственное письмо УО АТМР
A68: =Список!$K$812 -> - | B68: =Список!$AF$812 -> 0 | C68: =Список!$AE$812 -> 0 | D68: =Список!$T$812 -> 0 | E68: =Список!W23 -> 0
A69: =Список!$K$829 -> - | B69: =Список!$AF$829 -> 0 | C69: =Список!$AE$829 -> 0 | D69: =Список!$T$829 -> 0 | E69: =Список!W24 -> 0
A70: =Список!$K$846 -> - | B70: =Список!$AF$846 -> 0 | C70: =Список!$AE$846 -> 0 | D70: =Список!$T$846 -> 0 | E70: =Список!W25 -> 0
A71: =Список!$K$863 -> - | B71: =Список!$AF$863 -> 0 | C71: =Список!$AE$863 -> 0 | D71: =Список!$T$863 -> 0 | E71: =Список!W26 -> 0
A72: =Список!$K$880 -> - | B72: =Список!$AF$880 -> 0 | C72: =Список!$AE$880 -> 0 | D72: =Список!$T$880 -> 0 | E72: =Список!W27 -> 0
A73: =Список!$K$897 -> - | B73: =Список!$AF$897 -> 0 | C73: =Список!$AE$897 -> 0 | D73: =Список!$T$897 -> 0 | E73: =Список!W28 -> 0
A74: =Список!$K$914 -> - | B74: =Список!$AF$914 -> 0 | C74: =Список!$AE$914 -> 0 | D74: =Список!$T$914 -> 0 | E74: =Список!#REF! -> #REF!
A75: =Список!$K$931 -> - | B75: =Список!$AF$931 -> 0 | C75: =Список!$AE$931 -> 0 | D75: =Список!$T$931 -> 0 | E75: =Список!#REF! -> #REF!
A76: =Список!$K$948 -> - | B76: =Список!$AF$948 -> 0 | C76: =Список!$AE$948 -> 0 | D76: =Список!$T$948 -> 0 | E76: =Список!#REF! -> #REF!
A77: =Список!$K$965 -> - | B77: =Список!$AF$965 -> 0 | C77: =Список!$AE$965 -> 0 | D77: =Список!$T$965 -> 0 | E77: =Список!#REF! -> #REF!
A78: =Список!$K$982 -> - | B78: =Список!$AF$982 -> 0 | C78: =Список!$AE$982 -> 0 | D78: =Список!$T$982 -> 0 | E78: =Список!#REF! -> #REF!
A79: =Список!$K$999 -> - | B79: =Список!$AF$999 -> 0 | C79: =Список!$AE$999 -> 0 | D79: =Список!$T$999 -> 0 | E79: =Список!#REF! -> #REF!
A80: =Список!$K$1016 -> - | B80: =Список!$AF$1016 -> 0 | C80: =Список!$AE$1016 -> 0 | D80: =Список!$T$1016 -> 0 | E80: =Список!#REF! -> #REF!
A81: =Список!$K$1033 -> - | B81: =Список!$AF$1033 -> 0 | C81: =Список!$AE$1033 -> 0 | D81: =Список!$T$1033 -> 0 | E81: =Список!#REF! -> #REF!
A82: =Список!$K$1050 -> - | B82: =Список!$AF$1050 -> 0 | C82: =Список!$AE$1050 -> 0 | D82: =Список!$T$1050 -> 0 | E82: =Список!W30 -> 0
A83: =Список!$K$1067 -> - | B83: =Список!$AF$1067 -> 0 | C83: =Список!$AE$1067 -> 0 | D83: =Список!$T$1067 -> 0 | E83: =Список!W31 -> 0
A84: =Список!$K$1084 -> - | B84: =Список!$AF$1084 -> 0 | C84: =Список!$AE$1084 -> 0 | D84: =Список!$T$1084 -> 0 | E84: =Список!W32 -> 0
A85: =Список!$K$1101 -> - | B85: =Список!$AF$1101 -> 0 | C85: =Список!$AE$1101 -> 0 | D85: =Список!$T$1101 -> 0 | E85: =Список!#REF! -> #REF!
A86: =Список!$K$1118 -> - | B86: =Список!$AF$1118 -> 0 | C86: =Список!$AE$1118 -> 0 | D86: =Список!$T$1118 -> 0 | E86: =Список!#REF! -> #REF!
A87: =Список!$K$1135 -> - | B87: =Список!$AF$1135 -> 0 | C87: =Список!$AE$1135 -> 0 | D87: =Список!$T$1135 -> 0 | E87: =Список!#REF! -> #REF!
A88: =Список!$K$1152 -> - | B88: =Список!$AF$1152 -> 0 | C88: =Список!$AE$1152 -> 0 | D88: =Список!$T$1152 -> 0 | E88: =Список!#REF! -> #REF!
A89: =Список!$K$1169 -> - | B89: =Список!$AF$1169 -> 0 | C89: =Список!$AE$1169 -> 0 | D89: =Список!$T$1169 -> 0 | E89: =Список!#REF! -> #REF!
A90: =Список!$K$1186 -> - | B90: =Список!$AF$1186 -> 0 | C90: =Список!$AE$1186 -> 0 | D90: =Список!$T$1186 -> 0 | E90: =Список!#REF! -> #REF!
A91: =Список!$K$1203 -> - | B91: =Список!$AF$1203 -> 0 | C91: =Список!$AE$1203 -> 0 | D91: =Список!$T$1203 -> 0 | E91: =Список!#REF! -> #REF!
A92: =Список!$K$1220 -> - | B92: =Список!$AF$1220 -> 0 | C92: =Список!$AE$1220 -> 0 | D92: =Список!$T$1220 -> 0 | E92: =Список!#REF! -> #REF!
A93: =Список!$K$1237 -> - | B93: =Список!$AF$1237 -> 0 | C93: =Список!$AE$1237 -> 0 | D93: =Список!$T$1237 -> 0 | E93: =Список!#REF! -> #REF!
A94: =Список!$K$1254 -> - | B94: =Список!$AF$1254 -> 0 | C94: =Список!$AE$1254 -> 0 | D94: =Список!$T$1254 -> 0 | E94: =Список!#REF! -> #REF!
A95: =Список!$K$1271 -> - | B95: =Список!$AF$1271 -> 0 | C95: =Список!$AE$1271 -> 0 | D95: =Список!$T$1271 -> 0 | E95: =Список!#REF! -> #REF!
A96: =Список!$K$1288 -> - | B96: =Список!$AF$1288 -> 0 | C96: =Список!$AE$1288 -> 0 | D96: =Список!$T$1288 -> 0 | E96: =Список!#REF! -> #REF!
A97: =Список!$K$1305 -> - | B97: =Список!$AF$1305 -> 0 | C97: =Список!$AE$1305 -> 0 | D97: =Список!$T$1305 -> 0 | E97: =Список!#REF! -> #REF!
A98: =Список!$K$1322 -> - | B98: =Список!$AF$1322 -> 0 | C98: =Список!$AE$1322 -> 0 | D98: =Список!$T$1322 -> 0 | E98: =Список!W34 -> 0
A99: =Список!$K$1339 -> - | B99: =Список!$AF$1339 -> 0 | C99: =Список!$AE$1339 -> 0 | D99: =Список!$T$1339 -> 0 | E99: =Список!W35 -> Почетная грамота ДОиН ТО
A100: =Список!$K$1356 -> - | B100: =Список!$AF$1356 -> 0 | C100: =Список!$AE$1356 -> 0 | D100: =Список!$T$1356 -> 0 | E100: =Список!W36 -> Почетная грамота УО АТМО
...
