Workbook

Sheet СВОД (защита)
A1: Сводные данные по административно-управленческому и педагогическому персоналу
A2: =Список!$H$2 -> МАОУ Луговская СОШ
A4: Общие данные
A6: Всего работников | B6: =COUNTIF(Список!C:C,"Работает")+COUNTIF(Список!C:C,"Внеш. совмест.")+COUNTIF(Список!C:C,"Декр. отп.")+COUNTIF(Список!C:C,"Длит. отп. (до 1 г.)") -> 28
A7: из них:
A8: АУП | B8: =COUNTIF(Список!B:B,"АУП") -> 1 | G8: Работает (по осн. месту работы) | H8: =COUNTIF(Список!C:C,"Работает") -> 27 | M8: По совмещению (внутри ОО) | N8: =COUNTIF(Список!D:D,"совмещение") -> 3
A9: Педагогических работников | B9: =COUNTIF(Список!B:B,"Учитель")+COUNTIF(Список!B:B,"Иные ПР")+COUNTIF(Список!B:B,"ЦО ТР") -> 27 | G9: Внешних совместителей | H9: =COUNTIF(Список!C:C,"Внеш. совмест.") -> 0
A10: из педработников - учителей | B10: =COUNTIF(Список!B:B,"Учитель") -> 27 | G10: В декретном отпуске | H10: =COUNTIF(Список!C:C,"Декр. отп.") -> 1 | M10: По совместительству (внутри ОО) | N10: =COUNTIF(Список!D:D,"совместительство") -> 5
A11: из педработников - ЦО "ТР" | B11: =COUNTIF(Список!B:B,"ЦО ТР") -> 0 | G11: В длительном отпуске до 1 года | H11: =COUNTIF(Список!C:C,"Длит. отп. (до 1 г.)") -> 0
A13: Данные по возрасту
A15: Всего работников (проверка) | B15: =B24+D24+F24+H24+J24+L24+N24+P24+R24+T24+T25 -> #REF! | D15: Сред. возр. | E15: =AVERAGE(Список!#REF!) -> #REF!
A17: 18 | B17: =COUNTIF(Список!#REF!,A17) -> #REF!
A18: 19 | B18: =COUNTIF(Список!#REF!,A18) -> #REF!
A19: 20 | B19: =COUNTIF(Список!#REF!,A19) -> #REF! | C19: 25 | D19: =COUNTIF(Список!#REF!,C19) -> #REF! | E19: 30 | F19: =COUNTIF(Список!#REF!,E19) -> #REF! | G19: 35 | H19: =COUNTIF(Список!#REF!,G19) -> #REF! | I19: 40 | J19: =COUNTIF(Список!#REF!,I19) -> #REF! | K19: 45 | L19: =COUNTIF(Список!#REF!,K19) -> #REF! | M19: 50 | N19: =COUNTIF(Список!#REF!,M19) -> #REF! | O19: 55 | P19: =COUNTIF(Список!#REF!,O19) -> #REF! | Q19: 60 | R19: =COUNTIF(Список!#REF!,Q19) -> #REF! | S19: 65 | T19: =COUNTIF(Список!#REF!,S19) -> #REF!
A20: 21 | B20: =COUNTIF(Список!#REF!,A20) -> #REF! | C20: 26 | D20: =COUNTIF(Список!#REF!,C20) -> #REF! | E20: 31 | F20: =COUNTIF(Список!#REF!,E20) -> #REF! | G20: 36 | H20: =COUNTIF(Список!#REF!,G20) -> #REF! | I20: 41 | J20: =COUNTIF(Список!#REF!,I20) -> #REF! | K20: 46 | L20: =COUNTIF(Список!#REF!,K20) -> #REF! | M20: 51 | N20: =COUNTIF(Список!#REF!,M20) -> #REF! | O20: 56 | P20: =COUNTIF(Список!#REF!,O20) -> #REF! | Q20: 61 | R20: =COUNTIF(Список!#REF!,Q20) -> #REF! | S20: 66 | T20: =COUNTIF(Список!#REF!,S20) -> #REF!
A21: 22 | B21: =COUNTIF(Список!#REF!,A21) -> #REF! | C21: 27 | D21: =COUNTIF(Список!#REF!,C21) -> #REF! | E21: 32 | F21: =COUNTIF(Список!#REF!,E21) -> #REF! | G21: 37 | H21: =COUNTIF(Список!#REF!,G21) -> #REF! | I21: 42 | J21: =COUNTIF(Список!#REF!,I21) -> #REF! | K21: 47 | L21: =COUNTIF(Список!#REF!,K21) -> #REF! | M21: 52 | N21: =COUNTIF(Список!#REF!,M21) -> #REF! | O21: 57 | P21: =COUNTIF(Список!#REF!,O21) -> #REF! | Q21: 62 | R21: =COUNTIF(Список!#REF!,Q21) -> #REF! | S21: 67 | T21: =COUNTIF(Список!#REF!,S21) -> #REF!
A22: 23 | B22: =COUNTIF(Список!#REF!,A22) -> #REF! | C22: 28 | D22: =COUNTIF(Список!#REF!,C22) -> #REF! | E22: 33 | F22: =COUNTIF(Список!#REF!,E22) -> #REF! | G22: 38 | H22: =COUNTIF(Список!#REF!,G22) -> #REF! | I22: 43 | J22: =COUNTIF(Список!#REF!,I22) -> #REF! | K22: 48 | L22: =COUNTIF(Список!#REF!,K22) -> #REF! | M22: 53 | N22: =COUNTIF(Список!#REF!,M22) -> #REF! | O22: 58 | P22: =COUNTIF(Список!#REF!,O22) -> #REF! | Q22: 63 | R22: =COUNTIF(Список!#REF!,Q22) -> #REF! | S22: 68 | T22: =COUNTIF(Список!#REF!,S22) -> #REF!
A23: 24 | B23: =COUNTIF(Список!#REF!,A23) -> #REF! | C23: 29 | D23: =COUNTIF(Список!#REF!,C23) -> #REF! | E23: 34 | F23: =COUNTIF(Список!#REF!,E23) -> #REF! | G23: 39 | H23: =COUNTIF(Список!#REF!,G23) -> #REF! | I23: 44 | J23: =COUNTIF(Список!#REF!,I23) -> #REF! | K23: 49 | L23: =COUNTIF(Список!#REF!,K23) -> #REF! | M23: 54 | N23: =COUNTIF(Список!#REF!,M23) -> #REF! | O23: 59 | P23: =COUNTIF(Список!#REF!,O23) -> #REF! | Q23: 64 | R23: =COUNTIF(Список!#REF!,Q23) -> #REF! | S23: 69 | T23: =COUNTIF(Список!#REF!,S23) -> #REF!
A24: моложе 25 лет | B24: =SUM(B17:B23) -> #REF! | C24: 25-29 | D24: =SUM(D19:D23) -> #REF! | E24: 30-34 | F24: =SUM(F19:F23) -> #REF! | G24: 35-39 | H24: =SUM(H19:H23) -> #REF! | I24: 40-44 | J24: =SUM(J19:J23) -> #REF! | K24: 45-49 | L24: =SUM(L19:L23) -> #REF! | M24: 50-54 | N24: =SUM(N19:N23) -> #REF! | O24: 55-59 | P24: =SUM(P19:P23) -> #REF! | Q24: 60-64 | R24: =SUM(R19:R23) -> #REF! | S24: 65-69 | T24: =SUM(T19:T23) -> #REF!
S25: 70 и более | T25: =COUNTIF(Список!#REF!,70)+COUNTIF(Список!#REF!,71)+COUNTIF(Список!#REF!,72)+COUNTIF(Список!#REF!,73)+COUNTIF(Список!#REF!,74)+COUNTIF(Список!#REF!,75)+COUNTIF(Список!#REF!,76)+COUNTIF(Список!#REF!,77)+COUNTIF(Список!#REF!,78)+COUNTIF(Список!#REF!,79)+COUNTIF(Список!#REF!,80)+COUNTIF(Список!#REF!,81)+COUNTIF(Список!#REF!,82)+COUNTIF(Список!#REF!,83)+COUNTIF(Список!#REF!,84)+COUNTIF(Список!#REF!,85)+COUNTIF(Список!#REF!,86)+COUNTIF(Список!#REF!,87)+COUNTIF(Список!#REF!,88)+COUNTIF(Список!#REF!,89)+COUNTIF(Список!#REF!,90) -> #REF!
A26: Сред. возр. (при использовании фильтра на листе "Список") | B26: =SUBTOTAL(101,Список!#REF!) -> #REF! | G26: Справочно: Отобрано значений | H26: =SUBTOTAL(103,Список!#REF!) -> #REF!
A28: Данные по образованию
A30: Имеющих ВО | B30: =COUNTIF('Технический лист'!A:A,"ВО") -> 23 | E30: Имеющих СПО | F30: =COUNTIF('Технический лист'!A:A,"СПО") -> 5 | J30: Студентов по программам ВО | K30: =COUNTIF('Технический лист'!A:A,"ВО (с)") -> 0 | O30: Студентов по программам СПО | P30: =COUNTIF('Технический лист'!A:A,"СПО (с)") -> 0 | S30: Ученая степень | T30: =SUM(Список!S8:S3923) -> 2
A32: Данные по КПК
A34: Указать нужный год | B34: =COUNTIF(Список!F:F,'СВОД (защита)'!A34) -> 0 | E34: Указать нужный год | F34: =COUNTIF(Список!F:F,'СВОД (защита)'!E34) -> 0 | J34: Указать нужный год | K34: =COUNTIF(Список!F:F,'СВОД (защита)'!J34) -> 0 | O34: Указать нужный год | P34: =COUNTIF(Список!F:F,'СВОД (защита)'!O34) -> 0 | S34: Указать нужный год | T34: =COUNTIF(Список!F:F,'СВОД (защита)'!S34) -> 0
A36: Данные по нагрузке
A38: Ср. кол-во занятых ставок | B38: =AVERAGEIF('Технический лист'!B:B,">0") -> 1.5619658 | F38: Ср. учебная нагрузка (в часах) | G38: =AVERAGEIF('Технический лист'!C:C,">0") -> 25.130435
A40: Данные по категории (по основной должности)
A42: нет | B42: =COUNTIF('Технический лист'!D:D,"нет") -> 0 | D42: соответствие | E42: =COUNTIF('Технический лист'!D:D,"соответствие") -> 0 | G42: первая | H42: =COUNTIF('Технический лист'!D:D,"первая") -> 11 | J42: высшая | K42: =COUNTIF('Технический лист'!D:D,"высшая") -> 7 | N42: педагог-методист | O42: =COUNTIF('Технический лист'!D:D,"педагог-методист") -> 0 | Q42: педагог-наставник | R42: =COUNTIF('Технический лист'!D:D,"педагог-наставник") -> 0
A44: Данные по стажу
A45: (возможно использование фильтра на листе "Список", тогда ниже будут отображаться промежуточные итоги по отобранным значениям)
A47: Средний общий стаж | B47: =SUBTOTAL(101,Список!Z8:Z3923) -> 21.925926 | G47: Средний педагогический стаж | H47: =SUBTOTAL(101,Список!AA8:AA3923) -> 17.333333 | M47: Средний стаж (в данном учреждении) | N47: =SUBTOTAL(101,Список!AB8:AB3923) -> #REF!
A49: Данные по наградам
A51: Федеральные | D51: Тюменской области | K51: Тюменского района / округа
A52: Наименование награды | B52: Кол-во | D52: Почетная грамота Губернатора Тюменской области | I52: =COUNTIF('Технический лист'!$E:$E,'СВОД (защита)'!D52) -> 0 | K52: Звание "Почетный гражданин ТМР" | O52: =COUNTIF('Технический лист'!$E:$E,'СВОД (защита)'!K52) -> 0 | Q52: Иные награды | S52: =COUNTA('Технический лист'!E:E)-COUNTIF('Технический лист'!E:E,0)-1-SUM(B53:B61,I52:I61,O52:O65) -> 334
A53: Заслуженный учитель РФ | B53: =COUNTIF('Технический лист'!$E:$E,'СВОД (защита)'!A53) -> 0 | D53: Благодарность Губернатора Тюменской области | I53: =COUNTIF('Технический лист'!$E:$E,'СВОД (защита)'!D53) -> 0 | K53: Почетная грамота Главы Тюменского района | O53: =COUNTIF('Технический лист'!$E:$E,'СВОД (защита)'!K53) -> 0
A54: Отличник просвещения РФ | B54: =COUNTIF('Технический лист'!$E:$E,'СВОД (защита)'!A54) -> 0 | D54: Почетная грамота Тюменской областной Думы | I54: =COUNTIF('Технический лист'!$E:$E,'СВОД (защита)'!D54) -> 0 | K54: Благодарственное письмо Главы Тюменского района | O54: =COUNTIF('Технический лист'!$E:$E,'СВОД (защита)'!K54) -> 3 | Q54: ИТОГО | S54: =SUM(B53:B63,I52:I61,O52:O67,S52) -> 346
A55: Отличник просвещения СССР | B55: =COUNTIF('Технический лист'!$E:$E,'СВОД (защита)'!A55) -> 0 | D55: Почетный нагрудный знак Тюменской областной Думы | I55: =COUNTIF('Технический лист'!$E:$E,'СВОД (защита)'!D55) -> 0 | K55: Почетная грамота Думы ТМР | O55: =COUNTIF('Технический лист'!$E:$E,'СВОД (защита)'!K55) -> 0
A56: Медаль К.Д. Ушинского | B56: =COUNTIF('Технический лист'!$E:$E,'СВОД (защита)'!A56) -> 0 | D56: Благодарственное письмо Тюменской областной Думы | I56: =COUNTIF('Технический лист'!$E:$E,'СВОД (защита)'!D56) -> 0 | K56: Благодарственное письмо Думы ТМР | O56: =COUNTIF('Технический лист'!$E:$E,'СВОД (защита)'!K56) -> 0
A57: Медаль Л.С. Выготского | B57: =COUNTIF('Технический лист'!$E:$E,'СВОД (защита)'!A57) -> 0 | D57: Знак отличия Тюменской области "Почетный наставник" | I57: =COUNTIF('Технический лист'!$E:$E,'СВОД (защита)'!D57) -> 0 | K57: Почетная грамота УО АТМР | O57: =COUNTIF('Технический лист'!$E:$E,'СВОД (защита)'!K57) -> 2
...

Sheet Список
H1: Контрольный список педагогических работников на 2025-2026 учебный год
H2: МАОУ Луговская СОШ
A4: Фильтр для скрытия пустых строк (снять "0") | B4: Категория (по основной должности) | C4: Статус | D4: Формула (совмещение / совместительство) | E4: Формула - проверка по образованию | F4: Формула - последний год курсов | G4: Формула - последний год награды | H4: № п/п | I4: Ф.И.О. работника | J4: Должность | K4: Образование / профессиональная переподготовка | O4: Курсы повышения квалификации (за последние 3 года) | S4: Ученая степень | T4: Категория | W4: Награды | Y4: Дата трудоустройства | Z4: Стаж работы | AD4: Учебная нагрузка | AH4: Примечание
K5: Уровень | L5: Наименование учреждения | M5: Год окончания | N5: Специальность по диплому | O5: Наименование учреждения | P5: Наименование курсов | Q5: Объем курсов (часов) | R5: Год прохождения | T5: Наименование | U5: Год присвоения | V5: Реквизиты документа о присвоении (дата, №) | W5: Наименование награды | X5: Год получения | Z5: общий | AA5: педагогический | AB5: в данном учреждении | AC5: руководящий | AD5: Предмет / должность | AE5: Нагрузка | AG5: В каких классах
AE6: в часах | AF6: в ставках
A7: Х | B7: Х | C7: Х | D7: Х | E7: Х | F7: Х | G7: Х | H7: 1 | I7: 2 | J7: 5 | K7: 6 | L7: 7 | M7: 8 | N7: 9 | O7: 10 | P7: 11 | Q7: 12 | R7: 13 | S7: 14 | T7: 15 | U7: 16 | V7: 17 | W7: 18 | X7: 19 | Y7: 20 | Z7: 21 | AA7: 22 | AB7: 23 | AC7: 24 | AD7: 25 | AE7: 26 | AF7: 27 | AG7: 28 | AH7: 31
A8: =COUNTA(H8:K8,L8:AH8)-7 -> 3 | B8: АУП | C8: Работает | E8: =IF(K8="ВО",4,IF(K8="СПО",3,IF(K8="ВО (студент)",2,IF(K8="СПО (студент)",1,0)))) -> 4 | H8: 2 | I8: Придорогина Татьяна Владимировна | J8: Основная: | K8: ВО | T8: Х | U8: Х | V8: Х | AB8: =IF(Y8<1,"-",ROUND(YEARFRAC(Y8,#REF!,1),2)) -> - | AD8: Директор | AF8: 1
A9: =COUNTA(H9:K9,L9:AH9) -> 1 | E9: =IF(K9="ВО",4,IF(K9="СПО",3,IF(K9="ВО (студент)",2,IF(K9="СПО (студент)",1,0)))) -> 0 | J9: Директор
A10: 0 | E10: =MAX(E8:E9) -> 4 | F10: =RIGHT(R10,4) -> - 0 | G10: =RIGHT(X10,4) -> - 0 | J10: ИТОГО: | K10: =IF(E10=4,"ВО",IF(E10=3,"СПО",IF(E10=2,"ВО (с)",IF(E10=1,"СПО (с)","-")))) -> ВО | L10: =COUNTA(L8:L9) -> 0 | M10: Х | N10: Х | O10: =COUNTA(O8:O9) -> 0 | P10: Х | Q10: =SUM(Q8:Q9) -> 0 | R10: =CONCATENATE("П.Г.П. - ",MAX(R8:R9)) -> П.Г.П. - 0 | S10: =COUNTA(S8) -> 0 | T10: =T9 -> 0 | U10: Х | V10: Х | W10: =COUNTA(W8:W9) -> 0 | X10: =CONCATENATE("П.Г.П. - ",MAX(X8:X9)) -> П.Г.П. - 0 | Y10: =Y8 -> 0 | Z10: =IF(Z8="","-",Z8) -> - | AA10: =IF(AA8="","-",AA8) -> - | AB10: =IF(AB8="","-",AB8) -> - | AC10: =IF(AC8="","-",AC8) -> - | AD10: Х | AE10: =SUM(AE8:AE9) -> 0 | AF10: =SUM(AF8:AF9) -> 1 | AG10: Х | AH10: Х
A11: =COUNTA(H11:K11,L11:AH11)-7 -> 16 | B11: Учитель | C11: Работает | E11: =IF(K11="ВО",4,IF(K11="СПО",3,IF(K11="ВО (студент)",2,IF(K11="СПО (студент)",1,0)))) -> 4 | H11: 3 | I11: Евсина Оксана Викторовна | J11: Основная: | K11: ВО | L11: ГОУ ВПО Ишимский государтсвенный педагогический институт | M11: 2005 | N11: учитель биологии и географии | O11: ГАОУ ТО ДПО "ТОГИРРО" | P11: Реализация требований обновленных ФГОС ООО в работе учителя (учебный предмет "Химия") | Q11: 40 | R11: 2023 | T11: Х | U11: Х | V11: Х | Y11: 38579 | Z11: 20 | AA11: 16 | AB11: =IF(Y11<1,"-",ROUND(YEARFRAC(Y11,#REF!,1),2)) -> #REF! | AC11: 4 | AD11: биология | AE11: 22 | AF11: =AE11/18 -> 1.2222222 | AG11: 5, 6,7, 8, 9,10,11 кл.
A12: =COUNTA(H12:K12,L12:AH12) -> 18 | E12: =IF(K12="ВО",4,IF(K12="СПО",3,IF(K12="ВО (студент)",2,IF(K12="СПО (студент)",1,0)))) -> 0 | J12: Учитель | K12: ПП | L12: ООО "Межрегиональный учебный центр-Прогресс" | M12: 2018 | N12: менеджер в образовании | O12: ФГАОУ ДПО "АРГПиПРРО МинПросвецения РФ" | P12: Школа современного учителя биологии: достижения российской науки | Q12: 60 | R12: 2023 | T12: первая | U12: 2021 | V12: 24.06.2021 №165-К | W12: Благодарственное письмо УО АТМО | X12: 2023 | AD12: химия | AE12: 13 | AF12: =AE12/18 -> 0.72222222 | AG12: 8, 9, 10, 11 кл.
A13: =COUNTA(H13:K13,L13:AH13,J14)-4 -> 9 | E13: =IF(K13="ВО",4,IF(K13="СПО",3,IF(K13="ВО (студент)",2,IF(K13="СПО (студент)",1,0)))) -> 0 | J13: По совмещению: | O13: ООО "Межрегиональная Академия образования" | P13: Менеджер в образовании | Q13: 72 | R13: 2024 | T13: Х | U13: Х | V13: Х | AD13: практикум "По решению биологических задач" | AE13: 1 | AF13: =AE13/18 -> 0.055555556 | AG13: 11 кл
A14: =COUNTA(H14:K14,L14:AH14) -> 3 | D14: =IF(J14>0,"совмещение","-") -> совмещение | E14: =IF(K14="ВО",4,IF(K14="СПО",3,IF(K14="ВО (студент)",2,IF(K14="СПО (студент)",1,0)))) -> 0 | J14: Заместитель директора | AD14: Заместитель директора | AF14: 0.5
A15: 0 | E15: =MAX(E11:E14) -> 4 | F15: =RIGHT(R15,4) -> 2024 | G15: =RIGHT(X15,4) -> 2023 | J15: ИТОГО: | K15: =IF(E15=4,"ВО",IF(E15=3,"СПО",IF(E15=2,"ВО (с)",IF(E15=1,"СПО (с)","-")))) -> ВО | L15: =COUNTA(L11:L14) -> 2 | M15: Х | N15: Х | O15: =COUNTA(O11:O14) -> 3 | P15: Х | Q15: =SUM(Q11:Q14) -> 172 | R15: =CONCATENATE("П.Г.П. - ",MAX(R11:R14)) -> П.Г.П. - 2024 | S15: =COUNTA(S11) -> 0 | T15: =T12 -> первая | U15: Х | V15: Х | W15: =COUNTA(W11:W14) -> 1 | X15: =CONCATENATE("П.Г.П. - ",MAX(X11:X14)) -> П.Г.П. - 2023 | Y15: =Y11 -> 38579 | Z15: =IF(Z11="","-",Z11) -> 20 | AA15: =IF(AA11="","-",AA11) -> 16 | AB15: =IF(AB11="","-",AB11) -> #REF! | AC15: =IF(AC11="","-",AC11) -> 4 | AD15: Х | AE15: =SUM(AE11:AE14) -> 36 | AF15: =SUM(AF11:AF14) -> 2.5 | AG15: Х | AH15: Х
A16: =COUNTA(H16:K16,L16:AH16)-7 -> 16 | B16: Учитель | C16: Работает | E16: =IF(K16="ВО",4,IF(K16="СПО",3,IF(K16="ВО (студент)",2,IF(K16="СПО (студент)",1,0)))) -> 4 | H16: 4 | I16: Конопельцева Ирина Петровна | J16: Основная: | K16: ВО | L16: Иркутский государственный педагогический иститут | M16: 1995 | N16: учитель начальных классов | O16: ГАОУ ТО ДПО "ТОГИРРО" | P16: Реализация требований обновленных ФГОС начального общего образования в работе учителя | Q16: 36 | R16: 2022 | T16: Х | U16: Х | V16: Х | Y16: 39692 | Z16: 41 | AA16: 41 | AB16: =IF(Y16<1,"-",ROUND(YEARFRAC(Y16,#REF!,1),2)) -> #REF! | AC16: 17 | AD16: начальные классы | AE16: 21 | AF16: =AE16/18 -> 1.1666667 | AG16: 4Б
A17: =COUNTA(H17:K17,L17:AH17) -> 14 | E17: =IF(K17="ВО",4,IF(K17="СПО",3,IF(K17="ВО (студент)",2,IF(K17="СПО (студент)",1,0)))) -> 0 | J17: Учитель | K17: ПП | L17: ООО "Межрегиональный учебный центр-Прогресс" | M17: 2018 | N17: менеджер в образовании | O17: ООО "Межрегиональная Академия образования" | P17: Менеджер в образовании | Q17: 72 | R17: 2024 | T17: высшая | U17: 2021 | V17: 24.06.2021 №165-К | W17: Почетная грамота УО АТМР | X17: 2013
A18: =COUNTA(H18:K18,L18:AH18,J19)-4 -> 1 | E18: =IF(K18="ВО",4,IF(K18="СПО",3,IF(K18="ВО (студент)",2,IF(K18="СПО (студент)",1,0)))) -> 0 | J18: По совмещению: | T18: Х | U18: Х | V18: Х
A19: =COUNTA(H19:K19,L19:AH19) -> 3 | D19: =IF(J19>0,"совмещение","-") -> совмещение | E19: =IF(K19="ВО",4,IF(K19="СПО",3,IF(K19="ВО (студент)",2,IF(K19="СПО (студент)",1,0)))) -> 0 | J19: Заместитель директора | AD19: Заместитель директора | AF19: 0.5
A20: 0 | E20: =MAX(E16:E19) -> 4 | F20: =RIGHT(R20,4) -> 2024 | G20: =RIGHT(X20,4) -> 2013 | J20: ИТОГО: | K20: =IF(E20=4,"ВО",IF(E20=3,"СПО",IF(E20=2,"ВО (с)",IF(E20=1,"СПО (с)","-")))) -> ВО | L20: =COUNTA(L16:L19) -> 2 | M20: Х | N20: Х | O20: =COUNTA(O16:O19) -> 2 | P20: Х | Q20: =SUM(Q16:Q19) -> 108 | R20: =CONCATENATE("П.Г.П. - ",MAX(R16:R19)) -> П.Г.П. - 2024 | S20: =COUNTA(S16) -> 0 | T20: =T17 -> высшая | U20: Х | V20: Х | W20: =COUNTA(W16:W19) -> 1 | X20: =CONCATENATE("П.Г.П. - ",MAX(X16:X19)) -> П.Г.П. - 2013 | Y20: =Y16 -> 39692 | Z20: =IF(Z16="","-",Z16) -> 41 | AA20: =IF(AA16="","-",AA16) -> 41 | AB20: =IF(AB16="","-",AB16) -> #REF! | AC20: =IF(AC16="","-",AC16) -> 17 | AD20: Х | AE20: =SUM(AE16:AE19) -> 21 | AF20: =SUM(AF16:AF19) -> 1.6666667 | AG20: Х | AH20: Х
A21: =COUNTA(H21:K21,L21:AH21)-7 -> 8 | B21: Учитель | C21: Работает | E21: =IF(K21="ВО",4,IF(K21="СПО",3,IF(K21="ВО (студент)",2,IF(K21="СПО (студент)",1,0)))) -> 0 | H21: 5 | I21: Степанова Мария Леонидовна | J21: Основная: | T21: Х | U21: Х | V21: Х | Y21: 43340 | Z21: 13 | AA21: 7 | AB21: =IF(Y21<1,"-",ROUND(YEARFRAC(Y21,#REF!,1),2)) -> #REF! | AC21: 4 | AD21: география | AE21: 18 | AF21: =AE21/18 -> 1 | AG21: 5,6,7,8,9,10,11 классы
A22: =COUNTA(H22:K22,L22:AH22) -> 18 | E22: =IF(K22="ВО",4,IF(K22="СПО",3,IF(K22="ВО (студент)",2,IF(K22="СПО (студент)",1,0)))) -> 4 | J22: Учитель | K22: ВО | L22: ГОУ ВПО ТюмГУ | M22: 2009 | N22: географ | O22: ГАОУ ТО ДПО "ТОГИРРО" | P22: Реализация требований обновлённых ФГОС в работе учителя" (учебный предмет "География") | Q22: 36 | R22: 2022 | T22: высшая | U22: 2025 | V22: 87-к от 27.03.2025 г | W22: Благодарственное письмо УО АТМР | X22: 2024 | AD22: ОБиЗР | AE22: 6 | AF22: =AE22/18 -> 0.33333333 | AG22: 8,9,10, 11 классы
A23: =COUNTA(H23:K23,L23:AH23,J24)-4 -> 13 | E23: =IF(K23="ВО",4,IF(K23="СПО",3,IF(K23="ВО (студент)",2,IF(K23="СПО (студент)",1,0)))) -> 4 | J23: По совмещению: | K23: ВО | L23: ГОУ ВПО ТюмГУ | M23: 2009 | N23: преподаватель | O23: ГАОУ ТО ДПО "ТОГИРРО" | P23: Эффективность управления деятельностью руководителя ОО | Q23: 36 | R23: 2022 | T23: Х | U23: Х | V23: Х | AD23: Физика | AE23: 23 | AF23: =AE23/18 -> 1.2777778 | AG23: 7,8,9,10,11 классы
A24: =COUNTA(H24:K24,L24:AH24) -> 13 | D24: =IF(J24>0,"совмещение","-") -> совмещение | E24: =IF(K24="ВО",4,IF(K24="СПО",3,IF(K24="ВО (студент)",2,IF(K24="СПО (студент)",1,0)))) -> 0 | J24: Заместитель директора | K24: ПП | L24: ООО "Межрегиональный учебный центр-Прогресс" | M24: 2024 | N24: менеджер в образовании | O24: ФГАОУ ДПО "Академия реализации госполитики и профессиоального развития работника образования Министерства просвещения РФ" | P24: Внутренняя система оценки качества образования: развитие в соответствии с обновленными ФГОС | Q24: 36 | R24: 2022 | AD24: индивидуальный проект | AE24: 1 | AF24: =AE24/18 -> 0.055555556 | AG24: 10 кл.
A25: =COUNTA(H25:K25,L25:AH25) -> 12 | E25: =IF(K25="ВО",4,IF(K25="СПО",3,IF(K25="ВО (студент)",2,IF(K25="СПО (студент)",1,0)))) -> 0 | K25: ПП | L25: ООО "Инфорурок" | M25: 2022 | N25: Учитель математики | O25: ФГАОУ ВО "Государственный университет просвещения" | P25: Особенности преподавания учебного предмета "Основы безопасности и защиты Родины" у условиях внесения изменений в ФОП ООО и ФОП СОО | Q25: 24 | R25: 2024 | AD25: ЭК "По решению физических задач" | AE25: 1 | AF25: =AE25/18 -> 0.055555556 | AG25: 10 кл.
A26: =COUNTA(H26:K26,L26:AH26) -> 10 | E26: =IF(K26="ВО",4,IF(K26="СПО",3,IF(K26="ВО (студент)",2,IF(K26="СПО (студент)",1,0)))) -> 0 | K26: ПП | L26: ООО "Центр повышения квалификации и переподготовки "Луч знаний" | M26: 2024 | N26: Учитель информатики | O26: ООО "Межрегиональная Академия образования" | P26: Педагогическое взаимодействие с детьми с ОВЗ как фактор их успешной социализации | Q26: 72 | R26: 2024 | AD26: Заместитель директора | AF26: 0.5
A27: =COUNTA(H27:K27,L27:AH27) -> 8 | E27: =IF(K27="ВО",4,IF(K27="СПО",3,IF(K27="ВО (студент)",2,IF(K27="СПО (студент)",1,0)))) -> 0 | K27: ПП | L27: ООО "Инфоурок" | M27: 2025 | N27: учитель физики | O27: ГАОУ ТО ДПО "ТОГИРРО" | P27: Реализация требований, обновленных ФГОС ООО и ФГОС СОО в работе учителя географии | Q27: 40 | R27: 2025
A28: =COUNTA(H28:K28,L28:AH28) -> 4 | E28: =IF(K28="ВО",4,IF(K28="СПО",3,IF(K28="ВО (студент)",2,IF(K28="СПО (студент)",1,0)))) -> 0 | O28: ГАОУ ТО ДПО "ТОГИРРО" | P28: Современные методики обучения математики в контексте ФГОС | Q28: 40 | R28: 2025
A29: 0 | E29: =MAX(E21:E28) -> 4 | F29: =RIGHT(R29,4) -> 2025 | G29: =RIGHT(X29,4) -> 2024 | J29: ИТОГО: | K29: =IF(E29=4,"ВО",IF(E29=3,"СПО",IF(E29=2,"ВО (с)",IF(E29=1,"СПО (с)","-")))) -> ВО | L29: =COUNTA(L21:L28) -> 6 | M29: Х | N29: Х | O29: =COUNTA(O22:O28) -> 7 | P29: Х | Q29: =SUM(Q21:Q28) -> 284 | R29: =CONCATENATE("П.Г.П. - ",MAX(R21:R28)) -> П.Г.П. - 2025 | S29: =COUNTA(S21) -> 0 | T29: =T22 -> высшая | U29: Х | V29: Х | W29: =COUNTA(W21:W28) -> 1 | X29: =CONCATENATE("П.Г.П. - ",MAX(X21:X28)) -> П.Г.П. - 2024 | Y29: =Y21 -> 43340 | Z29: =IF(Z21="","-",Z21) -> 13 | AA29: =IF(AA21="","-",AA21) -> 7 | AB29: =IF(AB21="","-",AB21) -> #REF! | AC29: =IF(AC21="","-",AC21) -> 4 | AD29: Х | AE29: =SUM(AE21:AE28) -> 49 | AF29: =SUM(AF21:AF28) -> 3.2222222 | AG29: Х | AH29: Х
A30: =COUNTA(H30:K30,L30:AH30)-7 -> 7 | B30: Учитель | C30: Работает | E30: =IF(K30="ВО",4,IF(K30="СПО",3,IF(K30="ВО (студент)",2,IF(K30="СПО (студент)",1,0)))) -> 0 | H30: 6 | I30: Белинская Екатерина Александровна | J30: Основная: | T30: Х | U30: Х | V30: Х | Y30: 44251 | Z30: 17 | AA30: 5 | AB30: =IF(Y30<1,"-",ROUND(YEARFRAC(Y30,#REF!,1),2)) -> #REF! | AD30: английский язык | AE30: 34 | AF30: =AE30/18 -> 1.8888889 | AG30: 5, 8, 9, 10, 11 классы
A31: =COUNTA(H31:K31,L31:AH31) -> 12 | E31: =IF(K31="ВО",4,IF(K31="СПО",3,IF(K31="ВО (студент)",2,IF(K31="СПО (студент)",1,0)))) -> 4 | J31: Учитель | K31: ВО | L31: Сургутский государственный педагогический университет | M31: 2006 | N31: учитель французского и английского языков | O31: ГАОУ ТО ДПО "ТОГИРРО" | P31: Семинар "Креативное мышление - элемент функциональной грамотности" | Q31: 8 | R31: 2023 | T31: первая | U31: 2024 | V31: 28.11.2024 №394-К
A32: =COUNTA(H32:K32,L32:AH32,#REF!)-4 -> 4 | E32: =IF(K32="ВО",4,IF(K32="СПО",3,IF(K32="ВО (студент)",2,IF(K32="СПО (студент)",1,0)))) -> 0 | O32: ГАОУ ТО ДПО "ТОГИРРО" | P32: Проектирование соременного урока на основе анализа результатов процедур оценки качества образования (учебный предмет "Иностранный язык") | Q32: 36 | R32: 2024 | T32: Х | U32: Х | V32: Х
A33: 0 | E33: =MAX(E30:E32) -> 4 | F33: =RIGHT(R33,4) -> 2024 | G33: =RIGHT(X33,4) -> - 0 | J33: ИТОГО: | K33: =IF(E33=4,"ВО",IF(E33=3,"СПО",IF(E33=2,"ВО (с)",IF(E33=1,"СПО (с)","-")))) -> ВО | L33: =COUNTA(L30:L32) -> 1 | M33: Х | N33: Х | O33: =COUNTA(O30:O32) -> 2 | P33: Х | Q33: =SUM(Q30:Q32) -> 44 | R33: =CONCATENATE("П.Г.П. - ",MAX(R30:R32)) -> П.Г.П. - 2024 | S33: =COUNTA(S30) -> 0 | T33: =T31 -> первая | U33: Х | V33: Х | W33: =COUNTA(W30:W32) -> 0 | X33: =CONCATENATE("П.Г.П. - ",MAX(X30:X32)) -> П.Г.П. - 0 | Y33: =Y30 -> 44251 | Z33: =IF(Z30="","-",Z30) -> 17 | AA33: =IF(AA30="","-",AA30) -> 5 | AB33: =IF(AB30="","-",AB30) -> #REF! | AC33: =IF(AC30="","-",AC30) -> - | AD33: Х | AE33: =SUM(AE30:AE32) -> 34 | AF33: =SUM(AF30:AF32) -> 1.8888889 | AG33: Х | AH33: Х
A34: =COUNTA(H34:K34,L34:AH34)-7 -> 7 | B34: Учитель | C34: Работает | E34: =IF(K34="ВО",4,IF(K34="СПО",3,IF(K34="ВО (студент)",2,IF(K34="СПО (студент)",1,0)))) -> 0 | H34: 7 | I34: Бояркина Маргарита Владимировна | J34: Основная: | T34: Х | U34: Х | V34: Х | Y34: 37138 | Z34: 43 | AA34: 43 | AB34: =IF(Y34<1,"-",ROUND(YEARFRAC(Y34,#REF!,1),2)) -> #REF! | AD34: начальные классы | AE34: 21 | AF34: =AE34/18 -> 1.1666667 | AG34: 3А кл.
A35: =COUNTA(H35:K35,L35:AH35) -> 14 | E35: =IF(K35="ВО",4,IF(K35="СПО",3,IF(K35="ВО (студент)",2,IF(K35="СПО (студент)",1,0)))) -> 4 | J35: Учитель | K35: ВО | L35: Ишимский государственный педагогический институт | M35: 1985 | N35: учитель начальных классов | O35: ГАОУ ТО ДПО "ТОГИРРО" | P35: Реализация требований обновленных ФГОС начального общего образования в работе учителя | Q35: 36 | R35: 2022 | T35: высшая | U35: 2023 | V35: 27.04.2023 №177-К | W35: Почетная грамота ДОиН ТО | X35: 2021
A36: =COUNTA(H36:K36,L36:AH36,#REF!)-4 -> 2 | E36: =IF(K36="ВО",4,IF(K36="СПО",3,IF(K36="ВО (студент)",2,IF(K36="СПО (студент)",1,0)))) -> 0 | T36: Х | U36: Х | V36: Х | W36: Почетная грамота УО АТМО | X36: 2013
A37: 0 | E37: =MAX(E34:E36) -> 4 | F37: =RIGHT(R37,4) -> 2022 | G37: =RIGHT(X37,4) -> 2021 | J37: ИТОГО: | K37: =IF(E37=4,"ВО",IF(E37=3,"СПО",IF(E37=2,"ВО (с)",IF(E37=1,"СПО (с)","-")))) -> ВО | L37: =COUNTA(L34:L36) -> 1 | M37: Х | N37: Х | O37: =COUNTA(O34:O36) -> 1 | P37: Х | Q37: =SUM(Q34:Q36) -> 36 | R37: =CONCATENATE("П.Г.П. - ",MAX(R34:R36)) -> П.Г.П. - 2022 | S37: =COUNTA(S34) -> 0 | T37: =T35 -> высшая | U37: Х | V37: Х | W37: =COUNTA(W34:W36) -> 2 | X37: =CONCATENATE("П.Г.П. - ",MAX(X34:X36)) -> П.Г.П. - 2021 | Y37: =Y34 -> 37138 | Z37: =IF(Z34="","-",Z34) -> 43 | AA37: =IF(AA34="","-",AA34) -> 43 | AB37: =IF(AB34="","-",AB34) -> #REF! | AC37: =IF(AC34="","-",AC34) -> - | AD37: Х | AE37: =SUM(AE34:AE36) -> 21 | AF37: =SUM(AF34:AF36) -> 1.1666667 | AG37: Х | AH37: Х
A38: =COUNTA(H38:K38,L38:AH38)-7 -> 7 | B38: Учитель | C38: Работает | E38: =IF(K38="ВО",4,IF(K38="СПО",3,IF(K38="ВО (студент)",2,IF(K38="СПО (студент)",1,0)))) -> 0 | H38: 8 | I38: Голубева Елена Павловна | J38: Основная: | T38: Х | U38: Х | V38: Х | Y38: 45870 | Z38: 33 | AA38: 1 | AB38: =IF(Y38<1,"-",ROUND(YEARFRAC(Y38,#REF!,1),2)) -> #REF! | AD38: русский язык | AE38: 23 | AF38: =AE38/18 -> 1.2777778 | AG38: 6,7, 8Б кл
A39: =COUNTA(H39:K39,L39:AH39) -> 9 | E39: =IF(K39="ВО",4,IF(K39="СПО",3,IF(K39="ВО (студент)",2,IF(K39="СПО (студент)",1,0)))) -> 4 | J39: Учитель | K39: ВО | L39: Тюменский государственный университет | M39: 1998 | N39: Филолог | AD39: литература | AE39: 12 | AF39: =AE39/18 -> 0.66666667 | AG39: 6,7,8Б кл
A40: =COUNTA(H40:K40,L40:AH40,#REF!)-4 -> 4 | E40: =IF(K40="ВО",4,IF(K40="СПО",3,IF(K40="ВО (студент)",2,IF(K40="СПО (студент)",1,0)))) -> 0 | T40: Х | U40: Х | V40: Х | AD40: ЭК "Комплексный анализ текста" | AE40: 5 | AF40: =AE40/18 -> 0.27777778 | AG40: 6,7,8Б кл
A41: 0 | E41: =MAX(E38:E40) -> 4 | F41: =RIGHT(R41,4) -> - 0 | G41: =RIGHT(X41,4) -> - 0 | J41: ИТОГО: | K41: =IF(E41=4,"ВО",IF(E41=3,"СПО",IF(E41=2,"ВО (с)",IF(E41=1,"СПО (с)","-")))) -> ВО | L41: =COUNTA(L38:L40) -> 1 | M41: Х | N41: Х | O41: =COUNTA(O38:O40) -> 0 | P41: Х | Q41: =SUM(Q38:Q40) -> 0 | R41: =CONCATENATE("П.Г.П. - ",MAX(R38:R40)) -> П.Г.П. - 0 | S41: =COUNTA(S38) -> 0 | T41: =T39 -> 0 | U41: Х | V41: Х | W41: =COUNTA(W38:W40) -> 0 | X41: =CONCATENATE("П.Г.П. - ",MAX(X38:X40)) -> П.Г.П. - 0 | Y41: =Y38 -> 45870 | Z41: =IF(Z38="","-",Z38) -> 33 | AA41: =IF(AA38="","-",AA38) -> 1 | AB41: =IF(AB38="","-",AB38) -> #REF! | AC41: =IF(AC38="","-",AC38) -> - | AD41: Х | AE41: =SUM(AE38:AE40) -> 40 | AF41: =SUM(AF38:AF40) -> 2.2222222 | AG41: Х | AH41: Х
...

Sheet Подстановка
A1: Категория | B1: Статус | C1: Должность | D1: Уровень образования | E1: Год | F1: Ученная степень | G1: Категория | H1: Вид награды | I1: Предмет
A2: АУП | B2: Работает | C2: Директор | D2: СПО | E2: 1960 | F2: д-р пед. наук | G2: нет | H2: Заслуженный учитель РФ | I2: начальные классы
A3: Учитель | B3: Внеш. совмест. | C3: Заместитель директора | D3: ВО | E3: 1961 | F3: д-р ист. наук | G3: соответствие | H3: Отличник просвещения РФ | I3: русский язык
A4: Иные ПР | B4: Декр. отп. | C4: Руководитель ЦО "Точка роста" | D4: ПП | E4: 1962 | F4: д-р психол. наук | G4: первая | H4: Отличник просвещения СССР | I4: литература
A5: ЦО ТР | B5: Длит. отп. (до 1 г.) | C5: Учитель | D5: СПО (студент) | E5: 1963 | F5: д-р социол. наук | G5: высшая | H5: Медаль К.Д. Ушинского | I5: русский язык и литература
C6: Учитель-логопед | D6: ВО (студент) | E6: 1964 | F6: д-р техн. наук | G6: педагог-методист | H6: Медаль Л.С. Выготского | I6: родной язык
C7: Учитель-дефектолог | E7: 1965 | F7: д-р физ.-мат. наук | G7: педагог-наставник | H7: Почетный работник сферы образования РФ | I7: родная литература
C8: Социальный педагог | E8: 1966 | F8: д-р филол. наук | H8: Почетный работник сферы воспитания детей и молодежи РФ | I8: родной язык и литература
C9: Педагог дополнительного образования | E9: 1967 | F9: д-р филос. наук | H9: Почетный наставник | I9: татарская литература
C10: Педагог-психолог | E10: 1968 | F10: д-р экон. наук | H10: Знак отличия Минпросвещения РФ "За верность профессии" | I10: татарский язык
C11: Воспитатель | E11: 1969 | F11: канд. пед. наук | H11: Знак отличия Минпросвещения РФ "Молодость и профессионализм" | I11: татарский язык и литература
C12: Тьютер | E12: 1970 | F12: канд. ист. наук | H12: Почетная грамота Минпросвещения РФ | I12: история
C13: Советник директора по воспитанию и взаимодействию с ДОО | E13: 1971 | F13: канд. психол. наук | H13: Почетная грамота Губернатора Тюменской области | I13: обществознание
C14: Педагог-библиотекарь | E14: 1972 | F14: канд. социол. наук | H14: Благодарность Губернатора Тюменской области | I14: история и обществознание
C15: Педагог-организатор | E15: 1973 | F15: канд. техн. наук | H15: Почетная грамота Тюменской областной Думы | I15: экономика
E16: 1974 | F16: канд. физ.-мат. наук | H16: Почетный нагрудный знак Тюменской областной Думы | I16: право
E17: 1975 | F17: канд. филол. наук | H17: Благодарственное письмо Тюменской областной Думы | I17: информатика
E18: 1976 | F18: канд. филос. наук | H18: Знак отличия Тюменской области "Почетный наставник" | I18: физика
E19: 1977 | F19: канд. экон. наук | H19: Почетный работник науки и образования Тюменской области | I19: математика
E20: 1978 | F20: д-р архитектуры | H20: Благодарственное письмо Правительства Тюменской области | I20: алгебра
E21: 1979 | F21: д-р биол. наук | H21: Почетная грамота ДОиН ТО | I21: алгебра и начало анализа
E22: 1980 | F22: д-р ветеринар. наук | H22: Благодарность ДОиН ТО | I22: геометрия
E23: 1981 | F23: д-р воен. наук | H23: Звание "Почетный гражданин ТМР" | I23: вероятность и статистика
E24: 1982 | F24: д-р геогр. наук | H24: Почетная грамота Главы Тюменского района | I24: химия
E25: 1983 | F25: д-р геол.-минерал. наук | H25: Благодарственное письмо Главы Тюменского района | I25: география
E26: 1984 | F26: д-р искусствоведения | H26: Почетная грамота Думы ТМР | I26: биология
E27: 1985 | F27: д-р культурологии | H27: Благодарственное письмо Думы ТМР | I27: иностранный язык
... E39: 1997 | F39: канд. геол.-минерал. наук | H39: Почетная грамота министерства образования и науки | I39: практикум "Название"
E40: 1998 | F40: канд. искусствоведения | I40: индивидуальный проект
E41: 1999 | F41: канд. культурологии | I41: коррекционные занятия
E42: 2000 | F42: канд. мед. наук | I42: СИПР
E43: 2001 | F43: канд. полит. наук | I43: домашнее обучение
E44: 2002 | F44: канд. с.-х. наук | I44: воспитатель ГПД
E45: 2003 | F45: канд. фармацевт. наук | I45: Дополнительное образование
E46: 2004 | F46: канд. хим. наук | I46: Директор
E47: 2005 | F47: канд. юрид. наук | I47: Заместитель директора
E48: 2006 | I48: Руководитель ЦО "Точка роста"
E49: 2007 | I49: Учитель-логопед
E50: 2008 | I50: Учитель-дефектолог
E51: 2009 | I51: Социальный педагог
...

Sheet Технический лист
A1: Итоги по графе "6" Образование | B1: Занято ставок | C1: Учебная нагрузка (в часах) | D1: Категория | E1: Полученные награды
A2: =Список!#REF! -> #REF! | B2: =Список!#REF! -> #REF! | C2: =Список!#REF! -> #REF! | D2: =Список!#REF! -> #REF! | E2: =Список!#REF! -> #REF!
A3: =Список!$K$10 -> ВО | B3: =Список!$AF$10 -> 1 | C3: =Список!$AE$10 -> 0 | D3: =Список!$T$10 -> 0 | E3: =Список!#REF! -> #REF!
A4: =Список!$K$15 -> ВО | B4: =Список!$AF$15 -> 2.5 | C4: =Список!$AE$15 -> 36 | D4: =Список!$T$15 -> первая | E4: =Список!#REF! -> #REF!
A5: =Список!$K$20 -> ВО | B5: =Список!$AF$20 -> 1.6666667 | C5: =Список!$AE$20 -> 21 | D5: =Список!$T$20 -> высшая | E5: =Список!#REF! -> #REF!
A6: =Список!$K$29 -> ВО | B6: =Список!$AF$29 -> 3.2222222 | C6: =Список!$AE$29 -> 49 | D6: =Список!$T$29 -> высшая | E6: =Список!#REF! -> #REF!
A7: =Список!$K$33 -> ВО | B7: =Список!$AF$33 -> 1.8888889 | C7: =Список!$AE$33 -> 34 | D7: =Список!$T$33 -> первая | E7: =Список!#REF! -> #REF!
A8: =Список!$K$37 -> ВО | B8: =Список!$AF$37 -> 1.1666667 | C8: =Список!$AE$37 -> 21 | D8: =Список!$T$37 -> высшая | E8: =Список!#REF! -> #REF!
A9: =Список!$K$41 -> ВО | B9: =Список!$AF$41 -> 2.2222222 | C9: =Список!$AE$41 -> 40 | D9: =Список!$T$41 -> 0 | E9: =Список!#REF! -> #REF!
A10: =Список!$K$46 -> ВО | B10: =Список!$AF$46 -> 1.1666667 | C10: =Список!$AE$46 -> 12 | D10: =Список!$T$46 -> первая | E10: =Список!#REF! -> #REF!
A11: =Список!$K$53 -> ВО | B11: =Список!$AF$53 -> 1 | C11: =Список!$AE$53 -> 0 | D11: =Список!$T$53 -> первая | E11: =Список!#REF! -> #REF!
A12: =Список!$K$59 -> СПО | B12: =Список!$AF$59 -> 1.4444444 | C12: =Список!$AE$59 -> 8 | D12: =Список!$T$59 -> 0 | E12: =Список!#REF! -> #REF!
A13: =Список!$K$68 -> СПО | B13: =Список!$AF$68 -> 1.3333333 | C13: =Список!$AE$68 -> 6 | D13: =Список!$T$68 -> 0 | E13: =Список!#REF! -> #REF!
A14: =Список!$K$75 -> ВО | B14: =Список!$AF$75 -> 1.3333333 | C14: =Список!$AE$75 -> 24 | D14: =Список!$T$75 -> первая | E14: =Список!#REF! -> #REF!
A15: =Список!$K$80 -> ВО | B15: =Список!$AF$80 -> 1.1666667 | C15: =Список!$AE$80 -> 21 | D15: =Список!$T$80 -> первая | E15: =Список!#REF! -> #REF!
A16: =Список!$K$85 -> ВО | B16: =Список!$AF$85 -> 1.7777778 | C16: =Список!$AE$85 -> 32 | D16: =Список!$T$85 -> первая | E16: =Список!#REF! -> #REF!
A17: =Список!$K$92 -> ВО | B17: =Список!$AF$92 -> 1.1666667 | C17: =Список!$AE$92 -> 21 | D17: =Список!$T$92 -> первая | E17: =Список!#REF! -> #REF!
A18: =Список!$K$98 -> СПО | B18: =Список!$AF$98 -> 1.5 | C18: =Список!$AE$98 -> 18 | D18: =Список!$T$98 -> первая | E18: =Список!W8 -> 0
A19: =Список!$K$106 -> ВО | B19: =Список!$AF$106 -> 1.1666667 | C19: =Список!$AE$106 -> 21 | D19: =Список!$T$106 -> 0 | E19: =Список!W9 -> 0
A20: =Список!$K$109 -> ВО | B20: =Список!$AF$109 -> 1.3333333 | C20: =Список!$AE$109 -> 24 | D20: =Список!$T$109 -> 0 | E20: =Список!#REF! -> #REF!
A21: =Список!$K$113 -> ВО | B21: =Список!$AF$113 -> 0 | C21: =Список!$AE$113 -> 0 | D21: =Список!$T$113 -> 0 | E21: =Список!#REF! -> #REF!
A22: =Список!$K$119 -> ВО | B22: =Список!$AF$119 -> 1 | C22: =Список!$AE$119 -> 0 | D22: =Список!$T$119 -> высшая | E22: =Список!#REF! -> #REF!
A23: =Список!$K$130 -> ВО | B23: =Список!$AF$130 -> 0 | C23: =Список!$AE$130 -> 0 | D23: =Список!$T$130 -> 0 | E23: =Список!#REF! -> #REF!
A24: =Список!$K$134 -> ВО | B24: =Список!$AF$134 -> 1.1666667 | C24: =Список!$AE$134 -> 21 | D24: =Список!$T$134 -> первая | E24: =Список!#REF! -> #REF!
A25: =Список!$K$140 -> ВО | B25: =Список!$AF$140 -> 1.4444444 | C25: =Список!$AE$140 -> 26 | D25: =Список!$T$140 -> высшая | E25: =Список!#REF! -> #REF!
A26: =Список!$K$147 -> ВО | B26: =Список!$AF$147 -> 2.1666667 | C26: =Список!$AE$147 -> 30 | D26: =Список!$T$147 -> 0 | E26: =Список!#REF! -> #REF!
A27: =Список!$K$153 -> СПО | B27: =Список!$AF$153 -> 1.6666667 | C27: =Список!$AE$153 -> 21 | D27: =Список!$T$153 -> 0 | E27: =Список!#REF! -> #REF!
A28: =Список!$K$159 -> ВО | B28: =Список!$AF$159 -> 2.5555556 | C28: =Список!$AE$159 -> 46 | D28: =Список!$T$159 -> высшая | E28: =Список!#REF! -> #REF!
A29: =Список!$K$163 -> ВО | B29: =Список!$AF$163 -> 1.3888889 | C29: =Список!$AE$163 -> 25 | D29: =Список!$T$163 -> высшая | E29: =Список!#REF! -> #REF!
A30: =Список!$K$166 -> СПО | B30: =Список!$AF$166 -> 1.1666667 | C30: =Список!$AE$166 -> 21 | D30: =Список!$T$166 -> первая | E30: =Список!#REF! -> #REF!
A31: =Список!$K$183 -> - | B31: =Список!$AF$183 -> 0 | C31: =Список!$AE$183 -> 0 | D31: =Список!$T$183 -> 0 | E31: =Список!#REF! -> #REF!
A32: =Список!$K$200 -> - | B32: =Список!$AF$200 -> 0 | C32: =Список!$AE$200 -> 0 | D32: =Список!$T$200 -> 0 | E32: =Список!#REF! -> #REF!
A33: =Список!$K$217 -> - | B33: =Список!$AF$217 -> 0 | C33: =Список!$AE$217 -> 0 | D33: =Список!$T$217 -> 0 | E33: =Список!#REF! -> #REF!
A34: =Список!$K$234 -> - | B34: =Список!$AF$234 -> 0 | C34: =Список!$AE$234 -> 0 | D34: =Список!$T$234 -> 0 | E34: =Список!W11 -> 0
A35: =Список!$K$251 -> - | B35: =Список!$AF$251 -> 0 | C35: =Список!$AE$251 -> 0 | D35: =Список!$T$251 -> 0 | E35: =Список!W12 -> Благодарственное письмо УО АТМО
A36: =Список!$K$268 -> - | B36: =Список!$AF$268 -> 0 | C36: =Список!$AE$268 -> 0 | D36: =Список!$T$268 -> 0 | E36: =Список!W13 -> 0
A37: =Список!$K$285 -> - | B37: =Список!$AF$285 -> 0 | C37: =Список!$AE$285 -> 0 | D37: =Список!$T$285 -> 0 | E37: =Список!W14 -> 0
A38: =Список!$K$302 -> - | B38: =Список!$AF$302 -> 0 | C38: =Список!$AE$302 -> 0 | D38: =Список!$T$302 -> 0 | E38: =Список!#REF! -> #REF!
A39: =Список!$K$319 -> - | B39: =Список!$AF$319 -> 0 | C39: =Список!$AE$319 -> 0 | D39: =Список!$T$319 -> 0 | E39: =Список!#REF! -> #REF!
A40: =Список!$K$336 -> - | B40: =Список!$AF$336 -> 0 | C40: =Список!$AE$336 -> 0 | D40: =Список!$T$336 -> 0 | E40: =Список!#REF! -> #REF!
...
